BEGIN:VCALENDAR
VERSION:2.0
PRODID:-//ChamberMaster//Event Calendar 2.0//EN
METHOD:PUBLISH
X-PUBLISHED-TTL:P3D
REFRESH-INTERVAL:P3D
CALSCALE:GREGORIAN
BEGIN:VEVENT
DTSTART:20240524T213000Z
DTEND:20240524T223000Z
X-MICROSOFT-CDO-ALLDAYEVENT:FALSE
SUMMARY:Memorial Day Celebration at Fenwick Island Town Park
DESCRIPTION:Join the Town of Fenwick Island honoring our heroes for a Memorial Day Service On Friday\, May 24th at 5:30pm at Fenwick Island Town Park.\n\n\n\nGather with the community to pay tribute to the brave souls who made the ultimate sacrifice for our nation. This Memorial Day weekend let's come together in remembrance and gratitude for those who courageously served and defended our freedoms.\n\n\n\nThis occasion will feature heartfelt tributes\, reflections\, and musical performances to honor our fallen heroes. Whether you're a veteran\, a family member\, or a patriotic citizen\, your presence is deeply valued as we unite in honor and reverence.
X-ALT-DESC;FMTTYPE=text/html:Join the Town of Fenwick Island honoring our heroes for a Memorial Day Service On Friday\, May 24th at 5:30pm at Fenwick Island Town Park.<br />\n<br />\nGather with the community to pay tribute to the brave souls who made the ultimate sacrifice for our nation. This Memorial Day weekend let&#39\;s come together in remembrance and gratitude for those who courageously served and defended our freedoms.<br />\n<br />\nThis occasion will feature heartfelt tributes\, reflections\,&nbsp\;<span style="font-family:segoe ui emoji\,sans-serif\;">and</span> musical performances to honor our fallen heroes. Whether you&#39\;re a veteran\, a family member\, or a patriotic citizen\, your presence is deeply valued as we unite in honor and reverence.
LOCATION:Fenwick Island Town Park 800 Coastal Hwy. Fenwick Island\, DE 19944
UID:e.2126.29958
SEQUENCE:3
DTSTAMP:20260420T042430Z
URL:http://business.thequietresorts.com/events/details/memorial-day-celebration-at-fenwick-island-town-park-29958
END:VEVENT

END:VCALENDAR
