BEGIN:VCALENDAR
VERSION:2.0
PRODID:-//ChamberMaster//Event Calendar 2.0//EN
METHOD:PUBLISH
X-PUBLISHED-TTL:P3D
REFRESH-INTERVAL:P3D
CALSCALE:GREGORIAN
BEGIN:VEVENT
DTSTART:20240507T120000Z
DTEND:20240507T133000Z
X-MICROSOFT-CDO-ALLDAYEVENT:FALSE
SUMMARY:Membership Meeting May 2024: Delaware Prosperity Partnership
DESCRIPTION:Join the Bethany-Fenwick Area Chamber of Commerce at J.R.'s Seafood Shack on Tuesday\, May 7th\, for the May Membership Meeting!  This meeting will be held from 8:00 - 9:30AM\, and the Delaware Prosperity Partnership will be presenting on their economic development initiatives at the state and county level.  They will also discuss grants and incentives they assist businesses with\, and touch on the Ready in 6 Initiative.\n\n\n\nThere will also be complimentary breakfast\, courtesy of County Bank!\n\n\n\nThe Delaware Prosperity Partnership is the nonprofit economic development agency that leads the state's economic development efforts to attract\, grow\, and retain businesses.  This presentation will be a great opportunity to learn about this organization\, tap into the resources they offer\, and learn more about targeted business development and economic development in the state and Sussex County specifically. \n\n\n\nVisit www.choosedelaware.com for more information on the Delaware Prosperity Partnership!\n\n\n\nAs a courtesy to our host\, RSVP is required for this event.
X-ALT-DESC;FMTTYPE=text/html:Join the Bethany-Fenwick Area Chamber of Commerce at J.R.&#39\;s Seafood Shack on Tuesday\, May 7th\, for the May Membership Meeting!&nbsp\; This meeting will be held from 8:00 - 9:30AM\, and the Delaware Prosperity Partnership will be presenting on their economic development initiatives at the state and county level.&nbsp\; They will also discuss grants and incentives they assist businesses with\, and touch on the Ready in 6 Initiative.<br />\n<br />\nThere will also be complimentary breakfast\, courtesy of County Bank!<br />\n<br />\nThe Delaware Prosperity Partnership is the nonprofit economic development agency that leads the state&#39\;s economic development efforts to attract\, grow\, and retain businesses.&nbsp\; This presentation will be a great opportunity to learn about this organization\, tap into the resources they offer\, and learn more about targeted business development and economic development in the state and Sussex County specifically.&nbsp\;<br />\n<br />\nVisit <a href="https://www.choosedelaware.com/">www.choosedelaware.com</a> for more information on the Delaware Prosperity Partnership!<br />\n<br />\n<strong>As a courtesy to our host\, RSVP is required for this event.&nbsp\;</strong><br />\n&nbsp\;
LOCATION:J.R.'s Seafood Shack 1500 Coastal Hwy. #1 Fenwick Island\, DE 19944
UID:e.2126.28682
SEQUENCE:3
DTSTAMP:20260420T042022Z
URL:http://business.thequietresorts.com/events/details/membership-meeting-may-2024-delaware-prosperity-partnership-28682
END:VEVENT

END:VCALENDAR
