BEGIN:VCALENDAR
VERSION:2.0
PRODID:-//ChamberMaster//Event Calendar 2.0//EN
METHOD:PUBLISH
X-PUBLISHED-TTL:P3D
REFRESH-INTERVAL:P3D
CALSCALE:GREGORIAN
BEGIN:VEVENT
DTSTART:20230504T120000Z
DTEND:20230504T133000Z
X-MICROSOFT-CDO-ALLDAYEVENT:FALSE
SUMMARY:Membership Meeting May 2023: Social Media Marketing Seminar
DESCRIPTION:Join us at Su Casa in Ocean View on Thursday\, May 4th\, for a seminar on Social Media Marketing by D3!  Check-in and networking will take place from 8:00am - 8:30am\, with programming running from 8:30am - 9:30am.  Breakfast will be provided!
X-ALT-DESC;FMTTYPE=text/html:<span style="font-family:arial\,sans-serif\;"><span style="font-size:10.5pt\;">Join us at Su Casa in Ocean View on Thursday\, May 4th\, for a seminar on Social Media Marketing by D3!&nbsp\; Check-in and networking will take place from 8:00am - 8:30am\, with programming running from 8:30am - 9:30am.&nbsp\; Breakfast will be provided!&nbsp\;&nbsp\;</span></span><br />\n&nbsp\;
LOCATION:Su Casa - Ocean View 86 Atlantic Ave. Ocean View\, DE 19970
UID:e.2126.25375
SEQUENCE:3
DTSTAMP:20260421T041831Z
URL:http://business.thequietresorts.com/events/details/membership-meeting-may-2023-social-media-marketing-seminar-25375
END:VEVENT

END:VCALENDAR
