BEGIN:VCALENDAR
VERSION:2.0
PRODID:-//ChamberMaster//Event Calendar 2.0//EN
METHOD:PUBLISH
X-PUBLISHED-TTL:P3D
REFRESH-INTERVAL:P3D
CALSCALE:GREGORIAN
BEGIN:VEVENT
DTSTART:20220505T120000Z
DTEND:20220505T133000Z
X-MICROSOFT-CDO-ALLDAYEVENT:FALSE
SUMMARY:Membership Meeting: May 2022 - "Sussex County Economic Development "
DESCRIPTION:Join us on May 5\, 2022 to meet Sussex County Economic Development Director Bill Pfaff.\n\nBill will provide members with an overview of Economic Development initiatives in the county\, Sussex County's Economic Development Office exists to ignite business development by focusing on the retention\, the recruitment\, and the expansion of businesses throughout Sussex County.\n\n\n\nRegistration is required to accommodate our host. The cost is $10 and includes breakfast. \n\nMembership Meetings are intended to increase awareness of what is happening in the business community. Whether a dynamic speaker\, an educational workshop or a true networking event\, Membership Meetings are long-standing traditions in serving as an informational platform for the business community. And\, to add to the excitement   breakfast will be served to get the morning started off right.
X-ALT-DESC;FMTTYPE=text/html:<span style="font-size: 14px\;"><span style="font-family: arial\;"><span style="background-image: initial\; background-position: initial\; background-size: initial\; background-repeat: initial\; background-attachment: initial\; background-origin: initial\; background-clip: initial\;">Join us on May 5\, 2022 to meet Sussex County Economic Development Director Bill Pfaff.</span><br />\nBill will provide members with an overview of Economic Development initiatives in the county\,&nbsp\;<span style="background-color: rgba(255\, 255\, 255\, 0.5)\;">Sussex County&rsquo\;s Economic Development Office exists to ignite business development by focusing on the retention\, the recruitment\, and the expansion of businesses throughout Sussex County.</span><br />\n<br />\n<strong><span style="background-image: initial\; background-position: initial\; background-size: initial\; background-repeat: initial\; background-attachment: initial\; background-origin: initial\; background-clip: initial\;">Registration is required to accommodate our host. The cost is $10 and includes breakfast.&nbsp\;</span></strong></span></span><br style="font-variant-numeric: normal\; font-variant-east-asian: normal\; background-color: transparent\; cursor: text\; line-height: 20.8px\; margin: 0px\;" />\n<span style="font-variant-numeric: normal\; font-variant-east-asian: normal\; background-color: transparent\; font-size: 14px\;"><span style="font-family: arial\, sans-serif\;">Membership Meetings are intended to increase awareness of what is happening in the business community. Whether a dynamic speaker\, an educational workshop or a true networking event\, Membership Meetings are long-standing traditions in serving as an informational platform for the business community. And\, to add to the excitement &hellip\; breakfast will be served to get the morning started off right.</span></span><br />\n<br />\n<span style="font-size: 14px\;"><span style="font-family: arial\;">&nbsp\;</span></span>
LOCATION:Hotel Bethany Beach 39642 Jefferson Bridge Rd Bethany Beach\, DE 19930 (302) 541-9200
UID:e.2126.23612
SEQUENCE:3
DTSTAMP:20260422T001042Z
URL:http://business.thequietresorts.com/events/details/membership-meeting-may-2022-sussex-county-economic-development-23612
END:VEVENT

END:VCALENDAR
