BEGIN:VCALENDAR
VERSION:2.0
PRODID:-//ChamberMaster//Event Calendar 2.0//EN
METHOD:PUBLISH
X-PUBLISHED-TTL:P3D
REFRESH-INTERVAL:P3D
CALSCALE:GREGORIAN
BEGIN:VEVENT
DTSTART:20220303T130000Z
DTEND:20220303T140000Z
X-MICROSOFT-CDO-ALLDAYEVENT:FALSE
SUMMARY:Membership Meeting March 2022 "J1 Bridge USA Program" Overview
DESCRIPTION:Join us on March 3rd for Information on the J1 Program at the Bethany Beach Ocean Suites- South Building\, 2nd floor in the Atlantic Coast Room.\n\n\n\nCheck-in begins at 7:30am\n\nProgramming runs from 8:00am - 9:00am\n\n\n\nThe summer season is right around the corner and it is very important to know the do's and don'ts of the J1 Program.  Spend your morning with Carrie Linch\, SWT Program Director Placement and Compliance ASSE International Aspire Worldwide as she talks about business owners responsibility in the hiring and paying of their J1 employees.\n\n\n\n1 Summer Work Travel Program  \n\n	Information about the BridgeUSA Program\n	U.S. Dept. of State   regulations   visa process\n	Sponsor's role\n	Employer's responsibilities\n	Participant's responsibilities\n	Payroll/taxes   W4 Form   Second Jobs\n	SSN application process\n	Housing\n	Bike Safety\n	Community Support\n	Outlook for 2022 \n\nRegistration is required to accommodate our host. The cost is $10 and includes breakfast. \n\n \n\nMembership Meetings are intended to increase awareness of what is happening in the business community. Whether a dynamic speaker\, an educational workshop or a true networking event\, Membership Meetings are long-standing traditions in serving as an informational platform for the business community. And\, to add to the excitement   breakfast will be served to get the morning started off right.
X-ALT-DESC;FMTTYPE=text/html:<span style="font-family:arial\,sans-serif\;"><span style="font-size:10.5pt\;">Join us on March 3rd for Information on the J1 Program at the Bethany Beach Ocean Suites- South Building\, 2nd floor in the Atlantic Coast Room.</span></span><br />\n<br />\nCheck-in begins at 7:30am<br />\nProgramming runs from 8:00am - 9:00am<br />\n<br />\n<span style="font-family:arial\,sans-serif\;"><span style="font-size:10.5pt\;">The summer season is right around the corner and it is very important to know the do&rsquo\;s and don&rsquo\;ts of the J1 Program.&nbsp\; Spend your morning with Carrie Linch\, SWT Program Director Placement and Compliance <strong>ASSE International Aspire Worldwide</strong> as she talks about business owners responsibility in the hiring and paying of their J1 employees.</span></span><br />\n<br />\n<span style="font-size:12px\;"><strong><span style="font-family:arial\,sans-serif\;">1 Summer Work Travel Program &ndash\;</span></strong></span>\n<ul>\n	<li style="margin-left:0in\;"><span style="font-size:12px\;"><span style="font-family:arial\,sans-serif\;">Information about the BridgeUSA Program</span></span></li>\n	<li style="margin-left:0in\;"><span style="font-size:12px\;"><span style="font-family:arial\,sans-serif\;"><span style="font-family:arial\,sans-serif\;">U.S. Dept. of State &ndash\; regulations &ndash\; visa process</span></span></span></li>\n	<li style="margin-left:0in\;"><span style="font-size:12px\;"><span style="font-family:arial\,sans-serif\;"><span style="font-family:arial\,sans-serif\;"><span style="font-family:arial\,sans-serif\;">Sponsor&#39\;s role</span></span></span></span></li>\n	<li style="margin-left:0in\;"><span style="font-size:12px\;"><span style="font-family:arial\,sans-serif\;"><span style="font-family:arial\,sans-serif\;"><span style="font-family:arial\,sans-serif\;"><span style="font-family:arial\,sans-serif\;">Employer&rsquo\;s responsibilities</span></span></span></span></span></li>\n	<li style="margin-left:0in\;"><span style="font-size:12px\;"><span style="font-family:arial\,sans-serif\;"><span style="font-family:arial\,sans-serif\;"><span style="font-family:arial\,sans-serif\;"><span style="font-family:arial\,sans-serif\;"><span style="font-family:arial\,sans-serif\;">Participant&rsquo\;s responsibilities</span></span></span></span></span></span></li>\n	<li style="margin-left:0in\;"><span style="font-size:12px\;"><span style="font-family:arial\,sans-serif\;"><span style="font-family:arial\,sans-serif\;"><span style="font-family:arial\,sans-serif\;"><span style="font-family:arial\,sans-serif\;"><span style="font-family:arial\,sans-serif\;"><span style="font-family:arial\,sans-serif\;">Payroll/taxes &ndash\; W4 Form &ndash\; Second Jobs</span></span></span></span></span></span></span></li>\n	<li style="margin-left:0in\;"><span style="font-size:12px\;"><span style="font-family:arial\,sans-serif\;"><span style="font-family:arial\,sans-serif\;"><span style="font-family:arial\,sans-serif\;"><span style="font-family:arial\,sans-serif\;"><span style="font-family:arial\,sans-serif\;"><span style="font-family:arial\,sans-serif\;"><span style="font-family:arial\,sans-serif\;">SSN application process</span></span></span></span></span></span></span></span></li>\n	<li style="margin-left:0in\;"><span style="font-size:12px\;"><span style="font-family:arial\,sans-serif\;">Housing</span></span></li>\n	<li style="margin-left:0in\;"><span style="font-size:12px\;"><span style="font-family:arial\,sans-serif\;">Bike Safety</span></span></li>\n	<li style="margin-left:0in\;"><span style="font-size:12px\;"><span style="font-family:arial\,sans-serif\;">Community Support</span></span></li>\n	<li style="margin-left:0in\;"><span style="font-size:12px\;"><span style="font-family:arial\,sans-serif\;">Outlook for 2022 </span></span></li>\n</ul>\n<strong><span style="background-image:initial\;background-position:initial\;background-size:initial\;background-repeat:initial\;background-attachment:initial\;background-origin:initial\;background-clip:initial\;"><span style="font-family:arial\,sans-serif\;"><span style="font-size:10.5pt\;">Registration is required to accommodate our host. The cost is $10 and includes breakfast.&nbsp\;</span></span></span></strong><br />\n<span style="font-family:arial\,sans-serif\;"><span style="font-size:10.5pt\;">&nbsp\;<br />\nMembership Meetings are intended to increase awareness of what is happening in the business community. Whether a dynamic speaker\, an educational workshop or a true networking event\, Membership Meetings are long-standing traditions in serving as an informational platform for the business community. And\, to add to the excitement &hellip\; breakfast will be served to get the morning started off right.</span></span><br />\n<br />\n&nbsp\;
LOCATION:Bethany Beach Ocean Suties South Building\, 2nd floor in the Atlantic Coast Room 99 Hollywood St. Bethany Beach\, DE 19930
UID:e.2126.23450
SEQUENCE:3
DTSTAMP:20260424T040647Z
URL:http://business.thequietresorts.com/events/details/membership-meeting-march-2022-j1-bridge-usa-program-overview-23450
END:VEVENT

END:VCALENDAR
