BEGIN:VCALENDAR
VERSION:2.0
PRODID:-//ChamberMaster//Event Calendar 2.0//EN
METHOD:PUBLISH
X-PUBLISHED-TTL:P3D
REFRESH-INTERVAL:P3D
CALSCALE:GREGORIAN
BEGIN:VEVENT
DTSTART:20200305T130000Z
DTEND:20200305T143000Z
X-MICROSOFT-CDO-ALLDAYEVENT:FALSE
SUMMARY:Membership Meeting: March 2020 - "Eggs & Issues with Senator Hocker and Representatives Gray and Collins"
DESCRIPTION:Join us on March 5\, 2020 for our "Eggs & Issues" Membership Meeting with Senator Gerald Hocker and Representatives Ron Gray and Rich Collins. \n\n\n\nThe 2020 Delaware General Assembly just went into session and is underway. Chamber members\, Senator Hocker and Representative Gray along with Representative Collins will discuss the legislative agenda and their goals for 2020 and how it might impact both the county/area and the business environment. It will be followed up with a short Q&A session.\n\n\n\nRegistration is required to accommodate our host. The cost is $10 and includes breakfast. \n\n \n\nMembership Meetings are intended to increase awareness of what is happening in the business community. Whether a dynamic speaker\, an educational workshop or a true networking event\, Membership Meetings are long-standing traditions in serving as an informational platform for the business community. And\, to add to the excitement   breakfast will be served to get the morning started off right.
X-ALT-DESC;FMTTYPE=text/html:<span style="font-size: 14px\;"><span style="background: white\;"><span style="word-spacing: 0px\; orphans: 2\; widows: 2\; font-variant-ligatures: normal\; font-variant-caps: normal\; -webkit-text-stroke-width: 0px\; text-decoration-style: initial\;">Join us on March 5\, 2020 for our &quot\;Eggs &amp\; Issues&quot\; Membership Meeting with Senator Gerald Hocker and Representatives Ron Gray and Rich Collins.&nbsp\;</span></span><br />\n<br />\n<span style="word-spacing: 0px\; orphans: 2\; widows: 2\; font-variant-ligatures: normal\; font-variant-caps: normal\; -webkit-text-stroke-width: 0px\; text-decoration-style: initial\;">The 2020 Delaware General Assembly just went into session and is underway. Chamber members\, Senator Hocker and Representative Gray along with Representative Collins will discuss the legislative agenda and their goals for 2020 and how it might impact both the county/area and the business environment. It will be followed up with a short Q&amp\;A session.</span></span><br />\n<br />\n<span style="font-size: 14px\;"><strong><span style="background: white\;"><span style="color: rgb(51\, 51\, 51)\;"><span style="font-family: arial\,sans-serif\;">Registration is required to accommodate our host. The cost is $10 and includes breakfast.&nbsp\;</span></span></span></strong><br style="word-spacing: 0px\; orphans: 2\; widows: 2\; font-variant-ligatures: normal\; font-variant-caps: normal\; -webkit-text-stroke-width: 0px\; text-decoration-style: initial\;" />\n<span style="color: rgb(51\, 51\, 51)\;"><span style="font-family: arial\,sans-serif\;"><span style="word-spacing: 0px\; orphans: 2\; widows: 2\; font-variant-ligatures: normal\; font-variant-caps: normal\; -webkit-text-stroke-width: 0px\; text-decoration-style: initial\;">&nbsp\;<br />\nMembership Meetings are intended to increase awareness of what is happening in the business community. Whether a dynamic speaker\, an educational workshop or a true networking event\, Membership Meetings are long-standing traditions in serving as an informational platform for the business community. And\, to add to the excitement &hellip\; breakfast will be served to get the morning started off right.</span></span></span></span><br />\n<br />\n<span style="font-size: 14px\;"><span style="font-family: arial\;">&nbsp\;</span></span><br />\n&nbsp\;
LOCATION:Holiday Inn Express 39642 Jefferson Bridge Rd. Bethany Beach\, DE 19930
UID:e.2126.19679
SEQUENCE:3
DTSTAMP:20260425T225123Z
URL:http://business.thequietresorts.com/events/details/membership-meeting-march-2020-eggs-issues-with-senator-hocker-and-representatives-gray-and-collins-19679
END:VEVENT

END:VCALENDAR
