BEGIN:VCALENDAR
VERSION:2.0
PRODID:-//ChamberMaster//Event Calendar 2.0//EN
METHOD:PUBLISH
X-PUBLISHED-TTL:P3D
REFRESH-INTERVAL:P3D
CALSCALE:GREGORIAN
BEGIN:VEVENT
DTSTART:20220602T120000Z
DTEND:20220602T133000Z
X-MICROSOFT-CDO-ALLDAYEVENT:FALSE
SUMMARY:Membership Meeting: June 2022 Management Check-up with Sherine High
DESCRIPTION:Please join us on June 2nd for an informative and valuable session that will provide you with a takeaway checklist of the key areas you will want to consider ensuring are "buttoned up." \n\n \n\nWhether you have 2 employees or 200\, your business should have a systematic approach to people management that is both an asset and is built on a solid foundation of compliance.  HR has a direct impact and effect on the company culture and workplace environment\, sets the tone for internal communication\, helps to settle disputes\, and much more which all have an impact on your customer experience. \n\n\n\nSherine High will walk us through a people management check-up to allow attendees to gain a sense of their individual company's situation.  In addition\, she'll cover some of the HR mistakes to avoid and how to do so. \n\n \n\nRegistration is required to accommodate our host. The cost is $10 and includes breakfast. \n\n\n\nMembership Meetings are intended to increase awareness of what is happening in the business community. Whether a dynamic speaker\, an educational workshop or a true networking event\, Membership Meetings are long-standing traditions in serving as an informational platform for the business community. And\, to add to the excitement   breakfast will be served to get the morning started off right.
X-ALT-DESC;FMTTYPE=text/html:<span style="font-size: 10pt\;">P</span>lease join us on June 2nd for an informative and valuable session that will provide you with a takeaway checklist of the key areas you will want to consider ensuring are &ldquo\;buttoned up.&rdquo\;&nbsp\;<br />\n&nbsp\;<br />\nWhether you have 2 employees or 200\, your business should have a systematic approach to people management that is both an asset and is built on a solid foundation of compliance.&nbsp\; HR has a direct impact and effect on the company culture and workplace environment\, sets the tone for&nbsp\;internal communication\, helps to settle disputes\, and much more which all have an impact on your customer experience.&nbsp\;<br />\n<br />\n<span style="font-size:10.0pt\;">Sherine High will walk us through a people management check-up to allow attendees to gain a sense of their individual company&rsquo\;s situation.&nbsp\; In addition\, she&rsquo\;ll cover some of the HR mistakes to avoid and how to do so.&nbsp\;</span><br />\n<span style="font-size:10.0pt\;">&nbsp\;</span><br />\n<span style="font-family: arial\;"><span style="font-size: 14px\; background-image: none\; background-position: initial\; background-size: initial\; background-repeat: initial\; background-attachment: initial\; background-origin: initial\; background-clip: initial\; box-sizing: content-box\; font-weight: bolder\; inset: auto\; clear: none\; color: rgb(37\, 32\, 26)\; content: normal\; direction: inherit\; empty-cells: show\; font-variant-numeric: inherit\; font-variant-east-asian: inherit\; font-stretch: inherit\; line-height: inherit\; margin: 0px\; max-height: none\; max-width: none\; min-height: initial\; min-width: initial\; opacity: 1\; outline-offset: 0px\; overflow: visible\; padding: 0px\; position: static\; resize: none\; table-layout: auto\; text-overflow: clip\; vertical-align: baseline\; visibility: inherit\; word-break: inherit\; overflow-wrap: inherit\; z-index: auto\; border-width: initial\; border-style: none\; border-color: initial\; border-collapse: separate\; border-image: none 100% 1 0 / 1 / 0 stretch\; border-radius: 0px\; height: auto\; width: auto\; box-shadow: none\;">Registration is required to accommodate our host. The cost is $10 and includes breakfast.&nbsp\;</span></span><br style="font-family: &quot\;times new roman&quot\;\; font-size: 14px\;" />\n<br style="font-family: &quot\;times new roman&quot\;\; font-size: 14px\;" />\n<span style="font-family: arial\;"><span style="font-size: 14px\; color: rgb(37\, 32\, 26)\;">Membership Meetings are intended to increase awareness of what is happening in the business community. Whether a dynamic speaker\, an educational workshop or a true networking event\, Membership Meetings are long-standing traditions in serving as an informational platform for the business community. And\, to add to the excitement &hellip\; breakfast will be served to get the morning started off right.</span></span>
LOCATION:Frankford Public Library 8 Main St. Frankford\, DE 19945
UID:e.2126.23637
SEQUENCE:3
DTSTAMP:20260421T223405Z
URL:http://business.thequietresorts.com/events/details/membership-meeting-june-2022-management-check-up-with-sherine-high-23637
END:VEVENT

END:VCALENDAR
