BEGIN:VCALENDAR
VERSION:2.0
PRODID:-//ChamberMaster//Event Calendar 2.0//EN
METHOD:PUBLISH
X-PUBLISHED-TTL:P3D
REFRESH-INTERVAL:P3D
CALSCALE:GREGORIAN
BEGIN:VEVENT
DTSTART:20240208T130000Z
DTEND:20240208T150000Z
X-MICROSOFT-CDO-ALLDAYEVENT:FALSE
SUMMARY:Membership Meeting February 2024
DESCRIPTION:Join the Bethany-Fenwick Area Chamber of Commerce at Stride Physical Therapy & Wellness on Thursday\, February 8th\, from 8:00 AM - 10:00 AM for the February 2024 Membership Meeting!  The BFACC is partnering with Charm City Run\, Sarge Athletics\, and Stride Physical Therapy & Wellness to bring you a health and wellness focused morning to kick off the new year.  \n\n\n\nBreakfast will be provided\, courtesy of the three presenting businesses!  All three participating businesses\, Charm City Run\, Sarge Athletics\, and Stride Physical Therapy & Wellness\, will have 30-minute presentations/demonstrations prepared for the group.  We encourage you to come ready to move if you're interested in participating in any stretching exercises with Sarge Athletics!  See the full meeting schedule below\, and feel free to join in late or leave early if you cannot stay the entire 2-hour meeting.\n\n\n\nThis page will be updated with presentation information as it is confirmed.  \n\n\n\nSchedule: \n\n8:00 - 8:30 AM: Networking & Breakfast \n\n8:30 - 9:00 AM: Presentation 1 - Charm City Run\n\n9:00 - 9:30 AM: Presentation 2 - Stride talks movement and how it relates to Physical Therapy & Wellness!\n\n9:30 - 10:00 AM: Presentation 3 - Sarge Athletics gives you five small changes to feel 25\, and light stretching!
X-ALT-DESC;FMTTYPE=text/html:Join the Bethany-Fenwick Area Chamber of Commerce at Stride Physical Therapy &amp\; Wellness on Thursday\, February 8th\, from 8:00 AM - 10:00 AM for the February 2024 Membership Meeting!&nbsp\; The BFACC is partnering with <a href="https://www.charmcityrun.com/shop/locations/rehoboth-beach/">Charm City Run</a>\, <a href="https://www.sargeathletics.com/">Sarge Athletics</a>\, and <a href="https://www.strideptandwellness.com/">Stride Physical Therapy &amp\; Wellness</a> to bring you a health and wellness focused morning to kick off the new year.&nbsp\;&nbsp\;<br />\n<br />\nBreakfast will be provided\, courtesy of the three presenting businesses!&nbsp\; All three participating businesses\, Charm City Run\, Sarge Athletics\, and Stride Physical Therapy &amp\; Wellness\, will have 30-minute presentations/demonstrations prepared for the group.&nbsp\; We encourage you to come ready to move if you&#39\;re interested in participating in any stretching exercises with Sarge Athletics!&nbsp\; See the full meeting schedule below\, and feel free to join in late or leave early if you cannot stay the entire 2-hour meeting.<br />\n<br />\nThis page will be updated with presentation information as it is confirmed.&nbsp\;&nbsp\;<br />\n<br />\nSchedule:&nbsp\;<br />\n8:00 - 8:30 AM: Networking &amp\; Breakfast&nbsp\;<br />\n8:30 - 9:00 AM: Presentation 1 - Charm City Run<br />\n9:00 - 9:30 AM: Presentation 2 - Stride talks movement and how it relates to Physical Therapy &amp\; Wellness!<br />\n9:30 - 10:00 AM: Presentation 3 - Sarge Athletics gives you five small changes to feel 25\, and light stretching!
LOCATION:Stride Physical Therapy & Wellness 35247 Atlantic Ave. Millville\, DE\, 19967
UID:e.2126.27809
SEQUENCE:3
DTSTAMP:20260420T093831Z
URL:http://business.thequietresorts.com/events/details/membership-meeting-february-2024-27809
END:VEVENT

END:VCALENDAR
