BEGIN:VCALENDAR
VERSION:2.0
PRODID:-//ChamberMaster//Event Calendar 2.0//EN
METHOD:PUBLISH
X-PUBLISHED-TTL:P3D
REFRESH-INTERVAL:P3D
CALSCALE:GREGORIAN
BEGIN:VEVENT
DTSTART:20220407T120000Z
DTEND:20220407T133000Z
X-MICROSOFT-CDO-ALLDAYEVENT:FALSE
SUMMARY:Membership Meeting April 2022 - Everything’s Changed!! Shaping a better way…
DESCRIPTION:Join us on April 7th for an interactive session with Eunice from Transformative Dynamics\n\n\n\nEunice will lead us in an interactive discussion on the top challenges business owners and leaders are facing as well as the key leadership skills necessary in today's very competitive marketplace.\n\nLet's share ideas and best practices for:\n\n	Lessons learned 2020-2021: Navigating the Great Resignation to the Great Reset\n	Focusing on what matters   the polarities of results and relationships\n	modeling self-compassion   being kind to yourself.   \n\n Please join us in an engaging and thought-provoking discussion. We will leverage the power of community connection through interactive small group breakouts as well as an audience-wide forum. \n\n\n\nRegistration is required to accommodate our host. The cost is $10 and includes breakfast. \n\n\n\nMembership Meetings are intended to increase awareness of what is happening in the business community. Whether a dynamic speaker\, an educational workshop or a true networking event\, Membership Meetings are long-standing traditions in serving as an informational platform for the business community. And\, to add to the excitement   breakfast will be served to get the morning started off right.
X-ALT-DESC;FMTTYPE=text/html:<span style="font-size:14px\;">Join us on April 7th for an interactive session with Eunice from Transformative Dynamics<br />\n<br />\nEunice will lead us in an interactive discussion on the top challenges business owners and leaders are facing as well as the key leadership skills necessary in today&rsquo\;s very competitive marketplace.<br />\nLet&rsquo\;s share ideas and best practices for:</span>\n<ul>\n	<li><span style="font-size:14px\;">Lessons learned 2020-2021: Navigating the Great Resignation to the Great Reset</span></li>\n	<li><span style="font-size:14px\;">Focusing on what matters &ndash\; the polarities of results and relationships</span></li>\n	<li><span style="font-size:14px\;">modeling self-compassion &ndash\; being kind to yourself.&nbsp\;&nbsp\; </span></li>\n</ul>\n<span style="font-size:14px\;"> Please join us in an engaging and thought-provoking discussion. We will leverage the power of community connection through interactive small group breakouts as well as an audience-wide forum.&nbsp\;</span><br />\n<br />\n<span style="font-family:arial\;"><span style="font-size: 14px\; background-image: none\; background-position: initial\; background-size: initial\; background-repeat: initial\; background-attachment: initial\; background-origin: initial\; background-clip: initial\; box-sizing: content-box\; font-weight: bolder\; inset: auto\; clear: none\; color: rgb(37\, 32\, 26)\; content: normal\; direction: inherit\; empty-cells: show\; font-variant-numeric: inherit\; font-variant-east-asian: inherit\; font-stretch: inherit\; line-height: inherit\; margin: 0px\; max-height: none\; max-width: none\; min-height: initial\; min-width: initial\; opacity: 1\; outline-offset: 0px\; overflow: visible\; padding: 0px\; position: static\; resize: none\; table-layout: auto\; text-overflow: clip\; vertical-align: baseline\; visibility: inherit\; word-break: inherit\; overflow-wrap: inherit\; z-index: auto\; border-width: initial\; border-style: none\; border-color: initial\; border-collapse: separate\; border-image: none 100% 1 0 / 1 / 0 stretch\; border-radius: 0px\; height: auto\; width: auto\; box-shadow: none\;">Registration is required to accommodate our host. The cost is $10 and includes breakfast.&nbsp\;</span></span><br style="font-family: &quot\;times new roman&quot\;\; font-size: 14px\;" />\n<br style="font-family: &quot\;times new roman&quot\;\; font-size: 14px\;" />\n<span style="font-family:arial\;"><span style="font-size: 14px\; color: rgb(37\, 32\, 26)\;">Membership Meetings are intended to increase awareness of what is happening in the business community. Whether a dynamic speaker\, an educational workshop or a true networking event\, Membership Meetings are long-standing traditions in serving as an informational platform for the business community. And\, to add to the excitement &hellip\; breakfast will be served to get the morning started off right.</span></span><span style="color:#1F497D\;"><span style="font-size:9.0pt\;"> </span></span>
LOCATION:Ocean View Town Hall at John West Park 32 West Ave Ocean View\, DE Important Information **Road reconstruction is taking place on West Avenue including the closure of West Ave from Atlantic to Oakwood. Please plan to arrive by Central Avenue turning onto Oakwood Avenue and parking in our lot on Oakwood (walk around corner to access front of Community Center on west or by taking Central to Betts Ave\, turning right onto West and parking in our main lot adjacent to the Community Center/ John West Park at 32 West Ave. Sorry for any inconvenience this may cause.
UID:e.2126.23519
SEQUENCE:3
DTSTAMP:20260422T015829Z
URL:http://business.thequietresorts.com/events/details/membership-meeting-april-2022-everything-s-changed-shaping-a-better-way-23519
END:VEVENT

END:VCALENDAR
