BEGIN:VCALENDAR
VERSION:2.0
PRODID:-//ChamberMaster//Event Calendar 2.0//EN
METHOD:PUBLISH
X-PUBLISHED-TTL:P3D
REFRESH-INTERVAL:P3D
CALSCALE:GREGORIAN
BEGIN:VEVENT
DTSTART:20200909T120000Z
DTEND:20200909T133000Z
X-MICROSOFT-CDO-ALLDAYEVENT:FALSE
SUMMARY:Membership 101 September 2020
DESCRIPTION:Membership 101 is a small interactive workshop designed for you to get the most of your membership. Bring your computer\, work with the Chamber team and see how you can promote your business just through the login. The workshop will also discuss how to network effectively\, market in unique ways and learn more how to connect with other businesses in the area. This a small group workshop held in the Chamber conference room\, so space is limited. Registration is required!  \n\nWhether you are new to the Chamber or a seasoned member\, Membership 101 is intended to be a conversation to learn to see how to grow in partnership. All attendees are asked to bring:\n\n\n\n-Business Laptop or personal device\n\n- Promotional materials to display in our Information Center\n\n\n\nReservations can be easily made online by clicking 'Register' above. Anyone from your organization may attend this event. We look forward to seeing you there!
X-ALT-DESC;FMTTYPE=text/html:<p><span style="font-size: 14px\;"><span style="font-family: arial\;">Membership 101 is a small interactive workshop designed for you to get the most of your membership. Bring your computer\, work with the Chamber team and see how you can promote your business just through the login. The workshop will also discuss how to network effectively\, market in unique ways and learn more how to connect with other businesses in the area. This a small group workshop held in the Chamber conference room\, so space is limited. Registration is required!&nbsp\; </span></span><span style="font-family: &quot\;Century Gothic&quot\;\, sans-serif\; font-size: 11pt\;"><o:p></o:p></span></p>\n\n<p><span style="font-size: 14px\;"><span style="font-family: &quot\;Century Gothic&quot\;\, sans-serif\;"><span style="font-family: arial\;">Whether you are new to the Chamber or a seasoned member\, Membership 101 is intended to be a conversation to learn to see how to grow in partnership. All attendees are asked to bring:<br />\n<br />\n-Business Laptop or personal device<br />\n- Promotional materials to display in our Information Center<br />\n<br />\nReservations can be easily made online by clicking &#39\;Register&#39\; above. Anyone from your organization may attend this event. We look forward to seeing you there!</span></span></span><span style="font-family: &quot\;Century Gothic&quot\;\, sans-serif\; font-size: 11pt\;"><o:p></o:p></span></p>\n
LOCATION:Bethany-Fenwick Area Chamber of Commerce 36913 Coastal Hwy. Fenwick Island\, DE 19944
UID:e.2126.20059
SEQUENCE:3
DTSTAMP:20260425T144826Z
URL:http://business.thequietresorts.com/events/details/membership-101-september-2020-20059
END:VEVENT

END:VCALENDAR
