BEGIN:VCALENDAR
VERSION:2.0
PRODID:-//ChamberMaster//Event Calendar 2.0//EN
METHOD:PUBLISH
X-PUBLISHED-TTL:P3D
REFRESH-INTERVAL:P3D
CALSCALE:GREGORIAN
BEGIN:VEVENT
DTSTART:20230908T210000Z
DTEND:20230908T230000Z
X-MICROSOFT-CDO-ALLDAYEVENT:FALSE
SUMMARY:Meet the Artists of Gallery One Reception - 45th Annual Bethany Beach Boardwalk Arts Festival
DESCRIPTION:For 45 years\, festival-goers have savored the end of summer at the annual Arts Festival\, proving there is not a more beautiful backdrop for unique works of art. On this commemorative year\, the Bethany-Fenwick Area Chamber of Commerce invites you to Gallery One on the eve of the Arts Festival to enjoy an intimate setting of wine\, cheese\, and a chance to mingle with Gallery One partners. Sponsored by Comcast business\, reserve your spot for this event taking place on Friday\, September 8 from 5:00 PM - 7:00 PM.  The Meet the Artists Reception is an RSVP-only event. Reservations are limited. Wait-list option will be available.\n\n\n\nGallery One Partners\nCindy Beyer\n\nMary Bode Byrd\n\nW. Scott Broadfoot\n\nJoyce Condry\n\nRay Ewing\n\nJill Glassman\n\nLaura Hickman\n\nMichelle Marshall\n\nLesley McCaskill\n\nJeanne Mueller\n\nEileen Olson\n\nMarybeth Paterson\n\nDale Sheldon\n\nRina Thaler\n\nCheryl Wisbrock\n\n\n\n"To learn more about the Gallery One Partners\, go to galleryonede.com.  It has information on all the artists!"  \n\n\nA Chance to Win! Each attendee will qualify to win a beautiful painting by the talented Mary Bode Byrd. (Must be present to win) Drawing will take place at 6:00 PM\n\n\n\nPlease contact events@thequietresorts.com if you have any questions!\n\n\n\nGENERAL ARTS FESTIVAL INFORMATION:\n\nMeet the Artist Reception: Friday\, September 8 from 5:00 PM - 7:00 PM\; Raffle Drawing at 6:00 PM\n\nArts Festival: Saturday\, September 9 from 10:00 AM - 5:00 PM\n\n\n\nInclement Weather\n\nIn the event that inclement weather is forecasted that poses a threat to public safety\, the festival has a rain date scheduled for Sunday\, September 10\, 2023. All announcements regarding the show date will be made on this website. However\, the Meet the Artists Reception will take place on September 8\, rain or shine.\n\n\n\nVolunteers:\n\nIf you would like to volunteer for the 45th Annual Bethany Beach Boardwalk Arts Festival\, check out available opportunities here.\n\n\n\nAccommodations:\n\nStay tuned for upcoming deals in the surrounding areas for Art Show weekend!\n\n\n\nThe Bethany-Fenwick Area Chamber of Commerce is a non-profit organization dedicated to enhancing business throughout our area and promoting The Quiet Resorts as a year-round tourism destination.
X-ALT-DESC;FMTTYPE=text/html:<div><span style="font-size:16px\;"><span style="color:#000000\;"><small><span style="font-family:arial\;"><span style="background-color: rgb(255\, 255\, 255)\;">For 45 years\, festival-goers have savored the end of summer at the annual Arts Festival\, proving there is not a more beautiful backdrop for unique works of art. On this commemorative year\, the Bethany-Fenwick Area Chamber of Commerce invites you to Gallery One on the eve of the Arts Festival to enjoy an intimate setting of</span>&nbsp\;wine\, cheese\, and a chance to mingle with Gallery One partners. Sponsored by Comcast business\, reserve your spot for this event taking place on <strong>Friday\, September 8 from 5:00 PM - 7:00 PM</strong>.&nbsp\; The Meet the Artists Reception is an RSVP-only event. Reservations are limited. Wait-list option will be available.<br />\n<br />\n<u><strong>Gallery One Partners</strong></u></span></small></span></span>\n<div>Cindy<span style="white-space:pre"> </span>Beyer</div>\n\n<div>Mary<span style="white-space:pre"> </span>Bode Byrd</div>\n\n<div>W. Scott<span style="white-space:pre"> </span>Broadfoot</div>\n\n<div>Joyce<span style="white-space:pre"> </span>Condry</div>\n\n<div>Ray<span style="white-space:pre"> </span>Ewing</div>\n\n<div>Jill<span style="white-space:pre"> </span>Glassman</div>\n\n<div>Laura<span style="white-space:pre"> </span>Hickman</div>\n\n<div>Michelle<span style="white-space:pre"> </span>Marshall</div>\n\n<div>Lesley<span style="white-space:pre"> </span>McCaskill</div>\n\n<div>Jeanne<span style="white-space:pre"> </span>Mueller</div>\n\n<div>Eileen<span style="white-space:pre"> </span>Olson</div>\n\n<div>Marybeth<span style="white-space:pre"> </span>Paterson</div>\n\n<div>Dale<span style="white-space:pre"> </span>Sheldon</div>\n\n<div>Rina<span style="white-space:pre"> </span>Thaler</div>\n\n<div>Cheryl<span style="white-space:pre"> </span>Wisbrock<br />\n<br />\n<span style="font-size:14px\;"><span style="font-family:arial\;">&quot\;To learn more about the Gallery One Partners\, go to <a href="http://galleryonede.com">galleryonede.com</a>.&nbsp\; It has information on all the artists!&quot\;&nbsp\;&nbsp\;</span></span></div>\n<br />\n<span style="font-size:16px\;"><span style="color: rgb(0\, 0\, 0)\;"><small><span style="font-family:arial\;"><b>A Chance to Win!&nbsp\;</b>Each attendee will qualify to win a beautiful painting by the talented Mary Bode Byrd. <em>(Must be present to win) Drawing will take place at 6:00 PM</em></span></small></span><br />\n<br />\n<span style="font-size:14px\;"><span style="font-family:arial\;"><strong><font color="#333333">Please contact events@thequietresorts.com if you have any questions!</font></strong></span></span><br />\n<br />\n<small><span style="font-family:arial\;"><span style="color:#000000\;"><strong background-color:="" font-size:="" style="color: rgb(51\, 51\, 51)\; font-family: sans-serif\, Arial\, Verdana\, " trebuchet="">GENERAL ARTS FESTIVAL INFORMATION:</strong></span></span></small><br />\n<small><span style="font-family:arial\;"><span style="color:#000000\;"><strong background-color:="" font-size:="" style="color: rgb(51\, 51\, 51)\; font-family: sans-serif\, Arial\, Verdana\, " trebuchet="">Meet the Artist Reception: Friday\, September 8 from 5:00 PM - 7:00 PM\; Raffle Drawing at 6:00 PM<br />\nArts Festival: Saturday\, September 9 from 10:00 AM - 5:00 PM<br />\n<br />\nInclement Weather</strong><br background-color:="" font-size:="" style="color: rgb(51\, 51\, 51)\; font-family: sans-serif\, Arial\, Verdana\, " trebuchet="" />\n<span style="background-color: rgb(255\, 255\, 255)\;">In the event that inclement weather is forecasted that poses a threat to public safety\, the festival has a rain date scheduled for Sunday\, September 10\, 2023. All announcements regarding the show date will be made on this website. <strong>However\, the Meet the Artists Reception will take place on September 8\, rain or shine.</strong></span></span></span></small><br background-color:="" font-size:="" style="color: rgb(51\, 51\, 51)\; font-family: sans-serif\, Arial\, Verdana\, " trebuchet="" />\n<br />\n<small><span style="font-family:arial\;"><span style="color:#000000\;"><strong>Volunteers:</strong><br />\nIf you would like to volunteer for the 45th Annual Bethany Beach Boardwalk Arts Festival\, check out available opportunities </span><a href="https://business.bethany-fenwick.org/events/details/45th-annual-bethany-beach-boardwalk-arts-festival-volunteer-registration-25854"><span style="color:#000000\;">here</span></a><span style="color:#000000\;">.</span></span></small><br />\n<br />\n<span style="color:#000000\;"><small><span style="font-family:arial\;"><strong>Accommodations:</strong><br />\nStay tuned for upcoming deals in the surrounding areas for Art Show weekend!</span></small></span></span></div>\n\n<div><br />\n<span style="font-size:16px\;"><span style="color:#000000\;"><small><span style="font-family:arial\;"><strong><em>The Bethany-Fenwick Area Chamber of Commerce is a non-profit organization dedicated to enhancing business throughout our area and promoting The Quiet Resorts as a year-round tourism destination.&nbsp\;</em></strong></span></small></span></span></div>\n
LOCATION:Gallery One - 32 Atlantic Avenue
UID:e.2126.26149
SEQUENCE:3
DTSTAMP:20260420T200256Z
URL:http://business.thequietresorts.com/events/details/meet-the-artists-of-gallery-one-reception-45th-annual-bethany-beach-boardwalk-arts-festival-26149
END:VEVENT

END:VCALENDAR
