BEGIN:VCALENDAR
VERSION:2.0
PRODID:-//ChamberMaster//Event Calendar 2.0//EN
METHOD:PUBLISH
X-PUBLISHED-TTL:P3D
REFRESH-INTERVAL:P3D
CALSCALE:GREGORIAN
BEGIN:VEVENT
DTSTART;VALUE=DATE:20230805
DTEND;VALUE=DATE:20230806
TRANSP:TRANSPARENT
X-MICROSOFT-CDO-ALLDAYEVENT:TRUE
SUMMARY:Meditative Drawing Class for All Ages at Sorella Amore
DESCRIPTION:Unwind and relax in this meditative drawing class! Whether you're a beginner or a pro\, everyone is welcome. Enjoy a stress-busters experience that helps you find your creative side while having fun! Let the drawing flow with Meditative Drawing Class.
X-ALT-DESC;FMTTYPE=text/html:<span style="color:rgba(18\, 18\, 18\, 0.75)\; font-family:-apple-system\,blinkmacsystemfont\,segoe ui\,roboto\,ubuntu\,helvetica neue\,sans-serif\,apple color emoji\,segoe ui emoji\,segoe ui symbol\; font-size:16px">Unwind and relax in this meditative drawing class! Whether you&#39\;re a beginner or a pro\, everyone is welcome. Enjoy a stress-busters experience that helps you find your creative side while having fun! Let the drawing flow with Meditative Drawing Class.</span>
LOCATION:Sorella Amore 32630 Cedar Drive Millville\, DE 19967
UID:e.2126.26469
SEQUENCE:3
DTSTAMP:20260420T230325Z
URL:http://business.thequietresorts.com/events/details/meditative-drawing-class-for-all-ages-at-sorella-amore-26469
END:VEVENT

END:VCALENDAR
