BEGIN:VCALENDAR
VERSION:2.0
PRODID:-//ChamberMaster//Event Calendar 2.0//EN
METHOD:PUBLISH
X-PUBLISHED-TTL:P3D
REFRESH-INTERVAL:P3D
CALSCALE:GREGORIAN
BEGIN:VEVENT
DTSTART:20240612T150000Z
DTEND:20240612T163000Z
X-MICROSOFT-CDO-ALLDAYEVENT:FALSE
SUMMARY:McKee Builders East Gate Model Homes Grand Opening Ribbon Cutting
DESCRIPTION:Join the Bethany-Fenwick Area Chamber of Commerce on Wednesday\, June 12th\, to celebrate the grand opening of McKee Builders' East Gate community model homes!  The ribbon cutting event will begin at 11:00 AM\, with the ribbon to be cut around 11:30 AM and lunch available after.  Stop by on your lunch hour to tour the brand new model homes\, network with other chamber members and local realtors\, and meet the McKee team!\n\n\n\nMcKee's East Gate community is located on Zion Church Rd. just a few miles from the beaches of Fenwick Island!  The community will house a range of amenities including a community pool\, pickleball court\, and fire pit.
X-ALT-DESC;FMTTYPE=text/html:Join the Bethany-Fenwick Area Chamber of Commerce on Wednesday\, June 12th\, to celebrate the grand opening of McKee Builders&#39\; East Gate community model homes!&nbsp\; The ribbon cutting event will begin at 11:00 AM\, with the ribbon to be cut around 11:30 AM and lunch available after.&nbsp\; Stop by on your lunch hour to tour the brand new model homes\, network with other chamber members and local realtors\, and meet the McKee team!<br />\n<br />\nMcKee&#39\;s East Gate community is located on Zion Church Rd. just a few miles from the beaches of Fenwick Island!&nbsp\; The community will house a range of amenities including a community pool\, pickleball court\, and fire pit.
LOCATION:36150 Zion Church Rd. Frankford\, DE 19945
UID:e.2126.29920
SEQUENCE:3
DTSTAMP:20260420T091417Z
URL:http://business.thequietresorts.com/events/details/mckee-builders-east-gate-model-homes-grand-opening-ribbon-cutting-29920
END:VEVENT

END:VCALENDAR
