BEGIN:VCALENDAR
VERSION:2.0
PRODID:-//ChamberMaster//Event Calendar 2.0//EN
METHOD:PUBLISH
X-PUBLISHED-TTL:P3D
REFRESH-INTERVAL:P3D
CALSCALE:GREGORIAN
BEGIN:VEVENT
DTSTART:20240529T210000Z
DTEND:20240529T230000Z
X-MICROSOFT-CDO-ALLDAYEVENT:FALSE
SUMMARY:May Business After Hours at the Freeman Arts Pavilion: Mixer with the Greater Ocean City Chamber
DESCRIPTION:Join the Bethany-Fenwick Area Chamber of Commerce and the Greater Ocean City Chamber of Commerce on Wednesday\, May 29th\, for the May Business After Hours event!  This mixer will be held at the Freeman Arts Pavilion from 5:00 - 7:00PM and will include a check presentation for the beneficiaries of the 35th Annual Ocean to Bay Bike Tour and Coastal Cruise. \n\n\n\nThe Chamber Business After Hours is a fantastic way to promote your business through networking with fellow Chamber members. Don't forget to bring your business cards with you and for a little extra exposure bring a door prize too. \n\n\n\nThe Freeman Arts Pavilion Canteen will be providing food for the event\, as well as a cash bar.\n\n\n\nBeebe Medical Foundation and Beach Break Boutique are the featured business spotlight tables at this event!\n\n\n\nAs a courtesy to our host\, RSVP is highly encouraged.\n\n\n\nInterested in hosting a networking event\, or learning how you can become a member spotlight at future Business After Hours? \n\nContact membership@thequietresorts.com or 302-539-2100.
X-ALT-DESC;FMTTYPE=text/html:<span style="font-size:14px\;"><span style="font-family:arial\;">Join the Bethany-Fenwick Area Chamber of Commerce and the Greater Ocean City Chamber of Commerce on Wednesday\, May 29th\, for the May Business After Hours event!&nbsp\; This mixer will be held at the Freeman Arts Pavilion from 5:00 - 7:00PM and will include a check presentation for the beneficiaries of the 35th Annual Ocean to Bay Bike Tour and Coastal Cruise.&nbsp\;<br />\n<br />\nThe Chamber Business After Hours is a fantastic way to promote your business through networking with fellow Chamber members. Don&rsquo\;t forget to bring your business cards with you and for a little extra exposure bring a door prize too.&nbsp\;</span><br style="font-family: arial\, sans-serif\; font-size: 14px\;" />\n<br style="font-family: arial\, sans-serif\; font-size: 14px\;" />\n<span style="font-family: arial\, sans-serif\;"><span style="font-family:arial\;">The Freeman Arts Pavilion Canteen will be providing food for the event\, as well as a cash bar.</span></span><br />\n<br />\n<a href="https://www.beebehealthcare.org/beebe-medical-foundation">Beebe Medical Foundation</a>&nbsp\;and <a href="https://www.facebook.com/beachbreakfi/">Beach Break Boutique</a> are the featured business spotlight tables at this event!<br />\n<br />\n<span style="font-family: arial\, sans-serif\;">As a courtesy to our host\, RSVP is highly encouraged.</span><br />\n<br />\n<strong><span style="font-family: arial\, sans-serif\;">Interested in hosting a networking event\, or learning how you can become a member spotlight at future Business After Hours?&nbsp\;</span></strong><br />\n<span style="font-family: arial\, sans-serif\;">Contact membership@thequietresorts.com or 302-539-2100.</span></span><br />\n<br />\n&nbsp\;
LOCATION:Freeman Arts Pavilion 31806 Lake View Dr. Selbyville\, DE 19975
UID:e.2126.28667
SEQUENCE:3
DTSTAMP:20260420T042445Z
URL:http://business.thequietresorts.com/events/details/may-business-after-hours-at-the-freeman-arts-pavilion-mixer-with-the-greater-ocean-city-chamber-28667
END:VEVENT

END:VCALENDAR
