BEGIN:VCALENDAR
VERSION:2.0
PRODID:-//ChamberMaster//Event Calendar 2.0//EN
METHOD:PUBLISH
X-PUBLISHED-TTL:P3D
REFRESH-INTERVAL:P3D
CALSCALE:GREGORIAN
BEGIN:VEVENT
DTSTART:20230530T210000Z
DTEND:20230530T230000Z
X-MICROSOFT-CDO-ALLDAYEVENT:FALSE
SUMMARY:May 2023 Business After Hours and Ribbon Cutting at Freeman Arts Pavilion: Mixer with Ocean Pines Chamber of Commerce
DESCRIPTION:Join the Bethany-Fenwick Area Chamber of Commerce and the Ocean Pines Chamber of Commerce on Tuesday\, May 30th at Freeman Arts Pavilion for the May 2023 Business After Hours event and ribbon cutting for recent renovations to the Freeman Arts Pavilion!  The Chamber Business After Hours is a fantastic way to promote your business through networking with fellow Chamber members. Don't forget to bring your business cards with you and for a little extra exposure bring a door prize too. \n\n\n\nThe Freeman Arts Pavilion Canteen will be providing food for the event\, as well as a cash bar.\n\n\n\nBeebe Healthcare will have a featured spotlight table\, as well as The Ksebe Group with Long & Foster!\n\n\n\nAs a courtesy to our host\, RSVP is highly encouraged.\n\n\n\nInterested in hosting a networking event\, or learning how you can become a member spotlight at future Business After Hours? \n\nContact membership@thequietresorts.com or 302-539-2100.
X-ALT-DESC;FMTTYPE=text/html:<span style="font-family: arial\, sans-serif\; font-size: 14px\;">Join the Bethany-Fenwick Area Chamber of Commerce and the Ocean Pines Chamber of Commerce on Tuesday\, May 30th at Freeman Arts Pavilion&nbsp\;for the May 2023 Business After Hours event and ribbon cutting for recent renovations to the Freeman Arts Pavilion!&nbsp\;&nbsp\;</span><span style="font-family: arial\, sans-serif\; font-size: 14px\;">The Chamber Business After Hours is a fantastic way to promote your business through networking with fellow Chamber members. Don&rsquo\;t forget to bring your business cards with you and for a little extra exposure bring a door prize too.&nbsp\;</span><br style="font-family: arial\, sans-serif\; font-size: 14px\;" />\n<br style="font-family: arial\, sans-serif\; font-size: 14px\;" />\n<span style="font-family: arial\, sans-serif\; font-size: 14px\;">The Freeman Arts Pavilion Canteen will be providing food for the event\, as well as a cash bar.<br />\n<br />\nBeebe Healthcare will have a featured spotlight table\, as well as The Ksebe Group with Long &amp\; Foster!</span><br />\n<br />\n<span style="font-family: arial\, sans-serif\; font-size: 10.5pt\;">As a courtesy to our host\, RSVP is highly encouraged.</span><br />\n<br />\n<strong><span style="font-family: arial\, sans-serif\;"><span style="font-size: 10.5pt\;">Interested in hosting a networking event\, or learning how you can become a member spotlight at future Business After Hours?&nbsp\;</span></span></strong><br />\n<span style="font-family: arial\, sans-serif\;"><span style="font-size: 10.5pt\;">Contact membership@thequietresorts.com or 302-539-2100.</span></span>
LOCATION:Freeman Arts Pavilion 31806 Lake View Dr\, Selbyville\, DE 19975
UID:e.2126.25378
SEQUENCE:3
DTSTAMP:20260421T024459Z
URL:http://business.thequietresorts.com/events/details/may-2023-business-after-hours-and-ribbon-cutting-at-freeman-arts-pavilion-mixer-with-ocean-pines-chamber-of-commerce-25378
END:VEVENT

END:VCALENDAR
