BEGIN:VCALENDAR
VERSION:2.0
PRODID:-//ChamberMaster//Event Calendar 2.0//EN
METHOD:PUBLISH
X-PUBLISHED-TTL:P3D
REFRESH-INTERVAL:P3D
CALSCALE:GREGORIAN
BEGIN:VEVENT
DTSTART:20240111T223000Z
DTEND:20240112T003000Z
X-MICROSOFT-CDO-ALLDAYEVENT:FALSE
SUMMARY:Maryland Citizens for the Arts: Southeast Maryland Strategic Community Gathering
DESCRIPTION:The Maryland Citizens for the Arts is coming to Ocean City to meet with local artists! As a vital part of the arts community in Maryland's Southeast Region\, please join us in crafting ceramic butterflies as part of a larger art installation at the Art League of Ocean City. The artists will also gather with MCA to share feedback that will guide the future of MCA's work in arts advocacy. Complimentary dinner provided.\n\nSpace is limited so register early and by January 8th. Please click here to fill out the registration form or call 302-841-7257.
X-ALT-DESC;FMTTYPE=text/html:<p>The Maryland Citizens for the Arts is coming to Ocean City to meet with local artists!&nbsp\;As a vital part of the arts community in Maryland&rsquo\;s Southeast Region\, please join us in crafting ceramic butterflies as part of a larger art installation at the Art League of Ocean City. The artists will also gather with MCA to share feedback that will guide the future of MCA&rsquo\;s work in arts advocacy. Complimentary dinner provided.</p>\n\n<p>Space is limited so register early and by January&nbsp\;8th. Please&nbsp\;<a href="https://docs.google.com/forms/d/e/1FAIpQLSd12YVdfnVOKJ1ahc-L2cMPCKsm_slGGOyp-UGZB7bYdbG2Ag/viewform">click here</a>&nbsp\;to fill out the registration form<strong>&nbsp\;</strong>or call 302-841-7257.</p>\n
LOCATION:Art League of Ocean City 502 94th Street OCMD 21842
UID:e.2126.27395
SEQUENCE:3
DTSTAMP:20260420T152702Z
URL:http://business.thequietresorts.com/events/details/maryland-citizens-for-the-arts-southeast-maryland-strategic-community-gathering-27395
END:VEVENT

END:VCALENDAR
