BEGIN:VCALENDAR
VERSION:2.0
PRODID:-//ChamberMaster//Event Calendar 2.0//EN
METHOD:PUBLISH
X-PUBLISHED-TTL:P3D
REFRESH-INTERVAL:P3D
CALSCALE:GREGORIAN
BEGIN:VEVENT
DTSTART:20230928T183000Z
DTEND:20230928T200000Z
X-MICROSOFT-CDO-ALLDAYEVENT:FALSE
SUMMARY:MARKETING WORKSHOP: B2B NETWORKING & LINKEDIN BY SBDC
DESCRIPTION:Please join the Delaware SBDC for this hands-on\, virtual workshop\, supporting entrepreneurs looking to sharpen their applied marketing skills by working with SBDC Advisor Caroline Hermance\, on targeted creative projects - not just learning a few best practices\, but actually sitting down and creating with the help of an industry expert.\nTopics covered include:\n\n  What does B2B look like today?\n\n  Best Practices for 1:1 LinkedIn Communications\n\n  Business vs. Personal Use of LinkedIn\n\n\n\nRegister HERE.
X-ALT-DESC;FMTTYPE=text/html:<span style="color: rgb(102\, 102\, 102)\; font-family: &quot\;open sans&quot\;\, Helvetica\, Arial\, sans-serif\; font-size: 16px\;">Please join the Delaware SBDC for this hands-on\, virtual workshop\, supporting entrepreneurs looking to sharpen their applied marketing skills by working with SBDC Advisor Caroline Hermance\, on targeted creative projects - not just learning a few best practices\, but actually sitting down and creating with the help of an industry expert.</span>\n<p style="box-sizing: border-box\; margin: 0.85em 0px\; padding: 0px\; border: 0px rgb(225\, 225\, 225)\; font-variant-numeric: inherit\; font-variant-east-asian: inherit\; font-variant-alternates: inherit\; font-stretch: inherit\; font-size: 16px\; line-height: inherit\; font-family: &quot\;open sans&quot\;\, Helvetica\, Arial\, sans-serif\; font-optical-sizing: inherit\; font-kerning: inherit\; font-feature-settings: inherit\; font-variation-settings: inherit\; vertical-align: baseline\; color: rgb(102\, 102\, 102)\;">Topics covered include:</p>\n\n<p style="box-sizing: border-box\; margin: 0.85em 0px\; padding: 0px\; border: 0px rgb(225\, 225\, 225)\; font-variant-numeric: inherit\; font-variant-east-asian: inherit\; font-variant-alternates: inherit\; font-stretch: inherit\; font-size: 16px\; line-height: inherit\; font-family: &quot\;open sans&quot\;\, Helvetica\, Arial\, sans-serif\; font-optical-sizing: inherit\; font-kerning: inherit\; font-feature-settings: inherit\; font-variation-settings: inherit\; vertical-align: baseline\; color: rgb(102\, 102\, 102)\;">&bull\; What does B2B look like today?<br style="box-sizing: border-box\;" />\n&bull\; Best Practices for 1:1 LinkedIn Communications<br style="box-sizing: border-box\;" />\n&bull\; Business vs. Personal Use of LinkedIn<br />\n<br style="color: rgb(102\, 102\, 102)\; font-family: &quot\;open sans&quot\;\, Helvetica\, Arial\, sans-serif\; font-size: 16px\;" />\n<span style="color: rgb(102\, 102\, 102)\; font-family: &quot\;open sans&quot\;\, Helvetica\, Arial\, sans-serif\; font-size: 16px\;">Register&nbsp\;</span><a href="https://clients.delawaresbdc.org/workshop.aspx?ekey=10430041" style="font-family: &quot\;open sans&quot\;\, Helvetica\, Arial\, sans-serif\; font-size: 16px\;">HERE</a><span style="color: rgb(102\, 102\, 102)\; font-family: &quot\;open sans&quot\;\, Helvetica\, Arial\, sans-serif\; font-size: 16px\;">.</span></p>\n
LOCATION:Online
UID:e.2126.26909
SEQUENCE:3
DTSTAMP:20260420T195534Z
URL:http://business.thequietresorts.com/events/details/marketing-workshop-b2b-networking-linkedin-by-sbdc-26909
END:VEVENT

END:VCALENDAR
