BEGIN:VCALENDAR
VERSION:2.0
PRODID:-//ChamberMaster//Event Calendar 2.0//EN
METHOD:PUBLISH
X-PUBLISHED-TTL:P3D
REFRESH-INTERVAL:P3D
CALSCALE:GREGORIAN
BEGIN:VEVENT
DTSTART:20230721T230000Z
DTEND:20230722T010000Z
X-MICROSOFT-CDO-ALLDAYEVENT:FALSE
SUMMARY:Mariners Movie Nights On The Lawn
DESCRIPTION:Come and enjoy Mariners Movie Nights on the Lawn starting on July 21 with "The Incredibles."  An animated story of an undercover superhero's family trying to lead a quiet suburban life and are forced into action to save the world.  The event starts at 7PM and will be held at the outdoor pavilion (will move indoors for inclement weather).
X-ALT-DESC;FMTTYPE=text/html:Come and enjoy Mariners Movie Nights on the Lawn starting on July 21 with &quot\;The Incredibles.&quot\;&nbsp\; An animated story of an undercover superhero&#39\;s family trying to lead a quiet suburban life and are forced into action to save the world.&nbsp\; The event starts at 7PM and will be held at the outdoor pavilion (will move indoors for inclement weather).
LOCATION:Mariners Bethel\, 81 Central Ave\, Ocean View\, DE 19970
UID:e.2126.26408
SEQUENCE:3
DTSTAMP:20260420T233256Z
URL:http://business.thequietresorts.com/events/details/mariners-movie-nights-on-the-lawn-26408
END:VEVENT

END:VCALENDAR
