BEGIN:VCALENDAR
VERSION:2.0
PRODID:-//ChamberMaster//Event Calendar 2.0//EN
METHOD:PUBLISH
X-PUBLISHED-TTL:P3D
REFRESH-INTERVAL:P3D
CALSCALE:GREGORIAN
BEGIN:VEVENT
DTSTART:20230818T230000Z
DTEND:20230819T010000Z
X-MICROSOFT-CDO-ALLDAYEVENT:FALSE
SUMMARY:Mariners Movie Nights on the Lawn
DESCRIPTION:Come and enjoy Mariners Movie Nights on the Lawn staring "Up."  From Disney*Pixar comes Up\, a comedy adventure about 78 year old balloon salesman Carl Fredericksen\, who finally fulfills his lifelong dream of a great adventure when he ties thousands of balloons to his house and flies away to the wilds of South America. But he discovers all too late that his biggest nightmare has stowed away on the trip: an overly optimistic 8-year-old Wilderness Explorer named Russell. From the Academy Award(r)-nominated director Pete Docter (Monsters\, Inc.)\, Disney*Pixars Up invites you on a hilarious journey into a lost world\, with the least likely duo on Earth.\n\n\n\nFun for the whole family\, we look forward to seeing you.
X-ALT-DESC;FMTTYPE=text/html:<span style="font-family:arial\,helvetica\,sans-serif">Come and enjoy Mariners Movie Nights on the Lawn staring &quot\;Up.&quot\;&nbsp\;&nbsp\;</span><span style="background-color:rgba(0\, 0\, 0\, 0.05)\; color:rgb(19\, 19\, 19)\; font-family:roboto\,arial\,sans-serif\; font-size:14px">From Disney*Pixar comes Up\, a comedy adventure about 78 year old balloon salesman Carl Fredericksen\, who finally fulfills his lifelong dream of a great adventure when he ties thousands of balloons to his house and flies away to the wilds of South America. But he discovers all too late that his biggest nightmare has stowed away on the trip: an overly optimistic 8-year-old Wilderness Explorer named Russell. From the Academy Award(r)-nominated director Pete Docter (Monsters\, Inc.)\, Disney*Pixars Up invites you on a hilarious journey into a lost world\, with the least likely duo on Earth.<br />\n<br />\nFun for the whole family\, we look forward to seeing you.</span>\n<div>&nbsp\;</div>\n
LOCATION:Mariners Bethel\, 81 Central Ave\, Ocean View\, DE 19970
UID:e.2126.26514
SEQUENCE:3
DTSTAMP:20260420T230734Z
URL:http://business.thequietresorts.com/events/details/mariners-movie-nights-on-the-lawn-08-18-2023-26514
END:VEVENT

END:VCALENDAR
