BEGIN:VCALENDAR
VERSION:2.0
PRODID:-//ChamberMaster//Event Calendar 2.0//EN
METHOD:PUBLISH
X-PUBLISHED-TTL:P3D
REFRESH-INTERVAL:P3D
CALSCALE:GREGORIAN
BEGIN:VEVENT
DTSTART:20230811T230000Z
DTEND:20230812T010000Z
X-MICROSOFT-CDO-ALLDAYEVENT:FALSE
SUMMARY:Mariners Movie Nights on the Lawn
DESCRIPTION:Come and enjoy Mariners Movie Nights on the Lawn staring "Cars."  A hot-shot racecar named Lightning McQueen gets waylaid in Radiator Springs\, where he finds the true meaning of friendship and family.  The event starts at 7PM and will be held at the outdoor pavilion (will move indoors for inclement weather).
X-ALT-DESC;FMTTYPE=text/html:<h2><span style="font-family:arial\,helvetica\,sans-serif">Come and enjoy Mariners Movie Nights on the Lawn staring &quot\;Cars.&quot\;&nbsp\;&nbsp\;<a class="l_ecrd_txt_lnk b_ignbt l_ecrd_txt_hover" href="https://www.bing.com/ck/a?!&amp\;&amp\;p=4391c83793c816a3JmltdHM9MTY5MTI4MDAwMCZpZ3VpZD0xZDc4OThlNi1hZGYxLTY0ODYtMDc0ZC04YmIyYWNkZDY1ZjkmaW5zaWQ9NTk5OQ&amp\;ptn=3&amp\;hsh=3&amp\;fclid=1d7898e6-adf1-6486-074d-8bb2acdd65f9&amp\;psq=disney+movie+cars&amp\;u=a1aHR0cHM6Ly93d3cuYm94b2ZmaWNlbW9qby5jb20vdGl0bGUvdHQwMzE3MjE5L25ld3Mv&amp\;ntb=1" style="color: rgb(17\, 17\, 17)\; text-decoration-line: none\; font-family: Roboto\, Helvetica\, sans-serif\;" target="_blank" title="boxofficemojo.com">A hot-shot racecar named&nbsp\;Lightning McQueen&nbsp\;gets waylaid in Radiator Springs\,&nbsp\;where he finds the true meaning of friendship and family.</a>&nbsp\; The event starts at 7PM and will be held at the outdoor pavilion (will move indoors for inclement weather).</span></h2>\n
LOCATION:Mariners Bethel\, 81 Central Ave\, Ocean View\, DE 19970
UID:e.2126.26476
SEQUENCE:3
DTSTAMP:20260420T214459Z
URL:http://business.thequietresorts.com/events/details/mariners-movie-nights-on-the-lawn-08-11-2023-26476
END:VEVENT

END:VCALENDAR
