BEGIN:VCALENDAR
VERSION:2.0
PRODID:-//ChamberMaster//Event Calendar 2.0//EN
METHOD:PUBLISH
X-PUBLISHED-TTL:P3D
REFRESH-INTERVAL:P3D
CALSCALE:GREGORIAN
BEGIN:VEVENT
DTSTART:20230804T230000Z
DTEND:20230805T010000Z
X-MICROSOFT-CDO-ALLDAYEVENT:FALSE
SUMMARY:Mariners Movie Nights on the Lawn
DESCRIPTION:Come and enjoy Mariners Movie Nights on the Lawn staring "Inside Out."  After young Riley is uprooted from her Midwest life and moved to San Francisco\, her emotions - Joy\, Fear\, Anger\, Disgust and Sadness - conflict on how best to navigate a new city\, house\, and school.  The event starts at 7PM and will be held at the outdoor pavilion (will move indoors for inclement weather).
X-ALT-DESC;FMTTYPE=text/html:<h2><span style="font-size:14px">Come and enjoy Mariners Movie Nights on the Lawn staring &quot\;Inside Out.&quot\;&nbsp\;&nbsp\;</span><span style="color:rgb(68\, 68\, 68)\; font-family:roboto\,helvetica\,sans-serif\; font-size:14px">After young Riley is uprooted from her Midwest life and moved to San Francisco\, her emotions - Joy\, Fear\, Anger\, Disgust and Sadness - conflict on how best to navigate a new city\, house\, and school.</span><span style="font-size:14px">&nbsp\; The event starts at 7PM and will be held at the outdoor pavilion (will move indoors for inclement weather).</span></h2>\n
LOCATION:Mariners Bethel\, 81 Central Ave\, Ocean View\, DE 19970
UID:e.2126.26472
SEQUENCE:3
DTSTAMP:20260420T214406Z
URL:http://business.thequietresorts.com/events/details/mariners-movie-nights-on-the-lawn-08-04-2023-26472
END:VEVENT

END:VCALENDAR
