BEGIN:VCALENDAR
VERSION:2.0
PRODID:-//ChamberMaster//Event Calendar 2.0//EN
METHOD:PUBLISH
X-PUBLISHED-TTL:P3D
REFRESH-INTERVAL:P3D
CALSCALE:GREGORIAN
BEGIN:VEVENT
DTSTART:20230728T230000Z
DTEND:20230729T010000Z
X-MICROSOFT-CDO-ALLDAYEVENT:FALSE
SUMMARY:Mariners Movie Nights on the Lawn
DESCRIPTION:Come and enjoy Mariners Movie Nights on the Lawn staring "Finding Nemo."  An animated story of an adventurous young clownfish that is unexpectedly taken from his Great Barrier Reef home to a dentist's office aquarium. It's up to his worrisome father Marlin and his friendly but forgetful regal blue tang fish Dory to bring Nemo home -- meeting vegetarian sharks\, surfer dude turtles\, hypnotic jellyfish\, hungry seagulls\, and more along the way.  The event starts at 7PM and will be held at the outdoor pavilion (will move indoors for inclement weather).
X-ALT-DESC;FMTTYPE=text/html:<h2><span><span style="font-size:14px">Come and enjoy Mariners Movie Nights on the Lawn staring &quot\;Finding Nemo.&quot\;&nbsp\;&nbsp\;An animated story of an adventurous young clownfish</span><font color="#050505" face="segoe ui historic\, segoe ui\, helvetica\, arial\, sans-serif"><span style="font-size:14px">&nbsp\;that is unexpectedly taken from his Great Barrier Reef home to a dentist&#39\;s office aquarium. It&#39\;s up to his worrisome father Marlin and his friendly but forgetful regal blue tang fish Dory to bring Nemo home -- meeting vegetarian sharks\, surfer dude turtles\, hypnotic jellyfish\, hungry seagulls\, and more along the way.&nbsp\; The event starts at 7PM and will be held at the outdoor pavilion (will move indoors for inclement weather).</span></font></span></h2>\n
LOCATION:Mariners Bethel\, 81 Central Ave\, Ocean View\, DE 19970
UID:e.2126.26412
SEQUENCE:3
DTSTAMP:20260420T230733Z
URL:http://business.thequietresorts.com/events/details/mariners-movie-nights-on-the-lawn-07-28-2023-26412
END:VEVENT

END:VCALENDAR
