BEGIN:VCALENDAR
VERSION:2.0
PRODID:-//ChamberMaster//Event Calendar 2.0//EN
METHOD:PUBLISH
X-PUBLISHED-TTL:P3D
REFRESH-INTERVAL:P3D
CALSCALE:GREGORIAN
BEGIN:VEVENT
DTSTART:20230302T130000Z
DTEND:20230302T143000Z
X-MICROSOFT-CDO-ALLDAYEVENT:FALSE
SUMMARY:March Membership Meeting - TidalHealth
DESCRIPTION:Join us for a TidalHealth overview as Dr. William Doran (Orthopedic Surgeon) and Chris Hall (VP of Strategy & Chief Business Officer) give the latest updates on specialties like Orthopedics\, General Surgery\, and Bariatric Surgery.  Complimentary breakfast will be provided during the presentation!
X-ALT-DESC;FMTTYPE=text/html:Join us for a TidalHealth overview as <span style="color: rgb(31\, 73\, 125)\;">Dr. William Doran (Orthopedic Surgeon) and Chris Hall (VP of Strategy &amp\; Chief Business Officer)&nbsp\;</span>give the latest updates on specialties like Orthopedics\, General Surgery\, and Bariatric Surgery.&nbsp\; Complimentary breakfast will be provided during the presentation!<br />\n<br />\n&nbsp\;
LOCATION:Fenwick Shores 1501 Coastal Hwy\, Fenwick Island\, DE 19944
UID:e.2126.24942
SEQUENCE:3
DTSTAMP:20260421T060219Z
URL:http://business.thequietresorts.com/events/details/march-membership-meeting-tidalhealth-24942
END:VEVENT

END:VCALENDAR
