BEGIN:VCALENDAR
VERSION:2.0
PRODID:-//ChamberMaster//Event Calendar 2.0//EN
METHOD:PUBLISH
X-PUBLISHED-TTL:P3D
REFRESH-INTERVAL:P3D
CALSCALE:GREGORIAN
BEGIN:VEVENT
DTSTART:20240314T123000Z
DTEND:20240314T143000Z
X-MICROSOFT-CDO-ALLDAYEVENT:FALSE
SUMMARY:March Membership Meeting 2024 - Active Shooter Response Training
DESCRIPTION:Join the Bethany-Fenwick Area Chamber of Commerce from 8:30 - 10:30am on Thursday\, March 14th\, for an active shooter response training at Ocean View Police Department.  Space is limited\, so sign up now to secure your spot!
X-ALT-DESC;FMTTYPE=text/html:<span style="font-size:14px\;"><font color="#25201a" face="arial\, sans-serif">Join the Bethany-Fenwick Area Chamber of Commerce from 8:30 - 10:30am on Thursday\, March 14th\, for an active shooter response training at Ocean View Police Department.&nbsp\; Space is limited\, so sign up now to secure your spot!&nbsp\;</font></span>
LOCATION:Ocean View Police Department 201 Central Ave Ocean View DE\, 19970
UID:e.2126.28485
SEQUENCE:3
DTSTAMP:20260420T073219Z
URL:http://business.thequietresorts.com/events/details/march-membership-meeting-2024-active-shooter-response-training-28485
END:VEVENT

END:VCALENDAR
