BEGIN:VCALENDAR
VERSION:2.0
PRODID:-//ChamberMaster//Event Calendar 2.0//EN
METHOD:PUBLISH
X-PUBLISHED-TTL:P3D
REFRESH-INTERVAL:P3D
CALSCALE:GREGORIAN
BEGIN:VEVENT
DTSTART:20240321T203000Z
DTEND:20240321T223000Z
X-MICROSOFT-CDO-ALLDAYEVENT:FALSE
SUMMARY:March 2024 Business After Hours at Delmarva Design Center
DESCRIPTION:Join the Bethany-Fenwick Area Chamber of Commerce for the March Business After Hours event on Thursday\, March 21st\, at Delmarva Design Center! The Chamber Business After Hours is a fantastic way to promote your business through networking with fellow Chamber members. Don't forget to bring your business cards with you and for a little extra exposure bring a door prize too.\n\n\n\nPaul Davis Restoration and Home Remodeling and the Friends of the Selbyville Public Library will be the featured business spotlights at this event!\n\n\n\nAs a courtesy to our host\, RSVP is highly encouraged.\n\n\n\nInterested in hosting a networking event\, or learning how you can become a member spotlight at future Business After Hours? \n\nContact membership@thequietresorts.com or 302-539-2100.
X-ALT-DESC;FMTTYPE=text/html:<span style="color:#333333\;"><span style="font-family: arial\, sans-serif\; font-size: 10.5pt\;">Join the Bethany-Fenwick Area Chamber of Commerce for the March Business After Hours event on Thursday\, March 21st\, at Delmarva Design Center! The Chamber Business After Hours is a fantastic way to promote your business through networking with fellow Chamber members. Don&#39\;t forget to bring your business cards with you and for a little extra exposure bring a door prize too.<br />\n<br />\n<a href="https://business.bethany-fenwick.org/list/member/paul-davis-restoration-home-remodeling-8178">Paul Davis Restoration and Home Remodeling</a>&nbsp\;and the <a href="https://business.bethany-fenwick.org/list/member/friends-of-the-selbyville-public-library-8278">Friends of the Selbyville Public Library</a> will be the featured business spotlights at this event!<br />\n<br />\nAs a courtesy to our host\, RSVP is highly encouraged.</span></span><br />\n<br style="font-variant-ligatures:normal\;font-variant-caps:normal\;orphans:2\;text-align:start\;widows:2\;-webkit-text-stroke-width:0px\;text-decoration-thickness:initial\;text-decoration-style:initial\;word-spacing:0px\;" />\n<strong><span style="color:#333333\;"><span style="font-family:arial\,sans-serif\;"><span style="font-size:10.5pt\;"><span style="font-variant-ligatures:normal\;font-variant-caps:normal\;orphans:2\;text-align:start\;widows:2\;-webkit-text-stroke-width:0px\;text-decoration-thickness:initial\;text-decoration-style:initial\;word-spacing:0px\;">Interested in hosting a networking event\, or learning how you can become a member spotlight at future Business After Hours?&nbsp\;</span></span></span></span></strong><br />\n<span style="color:#333333\;"><span style="font-family:arial\,sans-serif\;"><span style="font-size:10.5pt\;">Contact membership@thequietresorts.com or 302-539-2100.</span></span></span><br />\n&nbsp\;
LOCATION:Delmarva Design Center 38507 Dupont Blvd. Selbyville\, DE 19975
UID:e.2126.28484
SEQUENCE:3
DTSTAMP:20260420T075012Z
URL:http://business.thequietresorts.com/events/details/march-2024-business-after-hours-at-delmarva-design-center-28484
END:VEVENT

END:VCALENDAR
