BEGIN:VCALENDAR
VERSION:2.0
PRODID:-//ChamberMaster//Event Calendar 2.0//EN
METHOD:PUBLISH
X-PUBLISHED-TTL:P3D
REFRESH-INTERVAL:P3D
CALSCALE:GREGORIAN
BEGIN:VEVENT
DTSTART:20240405T210000Z
DTEND:20240407T200000Z
X-MICROSOFT-CDO-ALLDAYEVENT:FALSE
SUMMARY:Manga and Anime Youth Art Show at the Art League of Ocean City
DESCRIPTION:Featuring artwork by middle\, high school\, and college students   celebrating creativity and Manga/Anime as a true art form!  Cash prizes awarded on the basis of creativity\, originality\, and artistic merit. On display at the OC Center for the Arts one-weekend-only! Exhibit dates: opening First Friday April 5 (5-7pm). Exhibit continues Saturday-Sunday April 6-7 (11-4pm).\n\n\n	Click here for the entry form.\n	Judges: Brad Hudson\, Elvin Hernandez\, and Collin Byrd   professors at the University of Maryland Eastern Shore (Sequential Arts program).\n\n\nPlease contact Gallery Assistant Kacie Neeb at kacie@artleagueofoceancity.org for more information or with questions.\n\nClick here for the printable poster. (artwork by Collin Byrd)
X-ALT-DESC;FMTTYPE=text/html:<p>Featuring artwork by middle\, high school\, and college students &ndash\; celebrating creativity and Manga/Anime as a true art form!&nbsp\; Cash prizes awarded on the basis of creativity\, originality\, and artistic merit. On display at the OC Center for the Arts one-weekend-only!&nbsp\;<strong>Exhibit dates: opening First Friday April 5 (5-7pm). Exhibit continues Saturday-Sunday April 6-7 (11-4pm).</strong></p>\n\n<ul>\n	<li><strong><a href="https://artleagueofoceancity.org/app/uploads/2023/12/Manga-and-Anime-Youth-Art-Show-2024-.pdf" style="color: rgb(0\, 148\, 215)\; box-sizing: border-box\; background: transparent\; text-decoration-line: none\;">Click here for the entry form.</a></strong></li>\n	<li>Judges: Brad Hudson\, Elvin Hernandez\, and Collin Byrd &ndash\; professors at the University of Maryland Eastern Shore (Sequential Arts program).</li>\n</ul>\n\n<p>Please contact Gallery Assistant Kacie Neeb at kacie@artleagueofoceancity.org for more information or with questions.</p>\n\n<p><strong><a href="https://artleagueofoceancity.org/app/uploads/2023/12/MangaAnimaPoster2024FINALWEB.jpg" rel="noopener" style="color: rgb(0\, 148\, 215)\; box-sizing: border-box\; background: transparent\; text-decoration-line: none\;" target="_blank">Click here for the printable poster.</a>&nbsp\;</strong><em>(artwork by Collin Byrd)</em></p>\n
LOCATION:Art League of Ocean City 502 94th Street Ocean City\, MD 21842
UID:e.2126.28623
SEQUENCE:3
DTSTAMP:20260420T062026Z
URL:http://business.thequietresorts.com/events/details/manga-and-anime-youth-art-show-at-the-art-league-of-ocean-city-28623
END:VEVENT

END:VCALENDAR
