BEGIN:VCALENDAR
VERSION:2.0
PRODID:-//ChamberMaster//Event Calendar 2.0//EN
METHOD:PUBLISH
X-PUBLISHED-TTL:P3D
REFRESH-INTERVAL:P3D
CALSCALE:GREGORIAN
BEGIN:VEVENT
DTSTART:20200506T160000Z
DTEND:20200506T170000Z
X-MICROSOFT-CDO-ALLDAYEVENT:FALSE
SUMMARY:Manage Your Business Remotely in Times of Uncertainty
DESCRIPTION:As a Grow with Google Partner\, the Bethany Fenwick Area Chamber of Commerce would like to invite you to tune in to a special livestream for small businesses: Manage Your Business Remotely in Times of Uncertainty.\n \n\nLearning objective:\n\nDiscover tools\, tips and resources to help you manage your business remotely during the COVID-19 crisis. Learn how to update critical business information online to keep customers informed\, and how to host virtual meetings and events. We?ll also share the latest resources from Google and other partners to help support small businesses.\n \n\nThe Grow with Google team will be hosting this live\, virtual event on May 6\, 2020 at 9AM PT / 12PM ET.\n\n\nInterested in learning about tools like Google My Business\, Google Ads\, Google Meet\, and YouTube? RSVP to g.co/grow/smallbizlivestream. In the ?how did you hear about this livestream event? you can let the Google team know that you heard from the Bethany-Fenwick Area Chamber!
X-ALT-DESC;FMTTYPE=text/html:<p dir="ltr" style="line-height:1.38\;margin-top:0pt\;margin-bottom:0pt\;"><span style="font-size:14px\;"><span style="font-family:arial\;"><span id="docs-internal-guid-58593d3e-7fff-0f80-522b-f4c5dc987f1c"><span style="font-variant-numeric: normal\; font-variant-east-asian: normal\; vertical-align: baseline\; white-space: pre-wrap\;">As a Grow with Google Partner\, </span><span style="font-variant-numeric: normal\; font-variant-east-asian: normal\; vertical-align: baseline\; white-space: pre-wrap\;">the Bethany Fenwick Area Chamber of Commerce</span><span style="font-variant-numeric: normal\; font-variant-east-asian: normal\; vertical-align: baseline\; white-space: pre-wrap\;"> </span><span style="font-variant-numeric: normal\; font-variant-east-asian: normal\; vertical-align: baseline\; white-space: pre-wrap\;">would like to invite you to tune in to a special livestream for small businesses: </span><span style="font-weight: 700\; font-variant-numeric: normal\; font-variant-east-asian: normal\; vertical-align: baseline\; white-space: pre-wrap\;">Manage Your Business Remotely in Times of Uncertainty</span><span style="font-variant-numeric: normal\; font-variant-east-asian: normal\; vertical-align: baseline\; white-space: pre-wrap\;">.</span></span></span></span></p>\n&nbsp\;\n\n<p dir="ltr" style="line-height:1.38\;margin-top:0pt\;margin-bottom:0pt\;"><span style="font-size:14px\;"><span style="font-family:arial\;"><span id="docs-internal-guid-58593d3e-7fff-0f80-522b-f4c5dc987f1c"><span style="font-weight: 700\; font-variant-numeric: normal\; font-variant-east-asian: normal\; vertical-align: baseline\; white-space: pre-wrap\;">Learning objective:</span></span></span></span></p>\n\n<p dir="ltr" style="line-height:1.38\;margin-top:0pt\;margin-bottom:0pt\;"><span style="font-size:14px\;"><span style="font-family:arial\;"><span id="docs-internal-guid-58593d3e-7fff-0f80-522b-f4c5dc987f1c"><span style="font-variant-numeric: normal\; font-variant-east-asian: normal\; vertical-align: baseline\; white-space: pre-wrap\;">Discover tools\, tips and resources to help you manage your business remotely during the COVID-19 crisis. Learn how to update critical business information online to keep customers informed\, and how to host virtual meetings and events. We?ll also share the latest resources from Google and other partners to help support small businesses.</span></span></span></span></p>\n<span style="font-size:14px\;">&nbsp\;</span>\n\n<p dir="ltr" style="line-height:1.38\;margin-top:0pt\;margin-bottom:0pt\;"><span style="font-size:14px\;"><span style="font-family:arial\;"><span id="docs-internal-guid-58593d3e-7fff-0f80-522b-f4c5dc987f1c"><span style="font-variant-numeric: normal\; font-variant-east-asian: normal\; vertical-align: baseline\; white-space: pre-wrap\;">The Grow with Google team will be hosting this live\, virtual event on </span><span style="font-weight: 700\; font-variant-numeric: normal\; font-variant-east-asian: normal\; vertical-align: baseline\; white-space: pre-wrap\;">May 6\, 2020 at 9AM PT / 12PM ET</span><span style="font-variant-numeric: normal\; font-variant-east-asian: normal\; vertical-align: baseline\; white-space: pre-wrap\;">.</span></span></span></span></p>\n<br />\n<span style="font-size:14px\;"><span style="font-family:arial\;"><span id="docs-internal-guid-58593d3e-7fff-0f80-522b-f4c5dc987f1c"><span style="font-variant-numeric: normal\; font-variant-east-asian: normal\; vertical-align: baseline\; white-space: pre-wrap\;">Interested in learning about tools like Google My Business\, Google Ads\, Google Meet\, and YouTube? </span><span style="font-variant-numeric: normal\; font-variant-east-asian: normal\; vertical-align: baseline\; white-space: pre-wrap\;">RSVP to </span><a href="http://g.co/grow/smallbizlivestream" style="text-decoration-line: none\;"><span style="font-variant-numeric: normal\; font-variant-east-asian: normal\; text-decoration-line: underline\; text-decoration-skip-ink: none\; vertical-align: baseline\; white-space: pre-wrap\;">g.co/grow/smallbizlivestream</span></a><span style="font-variant-numeric: normal\; font-variant-east-asian: normal\; vertical-align: baseline\; white-space: pre-wrap\;">. </span><span style="font-variant-numeric: normal\; font-variant-east-asian: normal\; vertical-align: baseline\; white-space: pre-wrap\;">In the ?how did you hear about this livestream event? you can let the Google team know that you heard from </span><span style="font-variant-numeric: normal\; font-variant-east-asian: normal\; vertical-align: baseline\; white-space: pre-wrap\;">the Bethany-Fenwick Area Chamber</span><span style="font-variant-numeric: normal\; font-variant-east-asian: normal\; vertical-align: baseline\; white-space: pre-wrap\;">! </span></span></span></span>
LOCATION:Register here g.co/grow/smallbizlivestream
UID:e.2126.21513
SEQUENCE:3
DTSTAMP:20260425T194854Z
URL:http://business.thequietresorts.com/events/details/manage-your-business-remotely-in-times-of-uncertainty-21513
END:VEVENT

END:VCALENDAR
