BEGIN:VCALENDAR
VERSION:2.0
PRODID:-//ChamberMaster//Event Calendar 2.0//EN
METHOD:PUBLISH
X-PUBLISHED-TTL:P3D
REFRESH-INTERVAL:P3D
CALSCALE:GREGORIAN
BEGIN:VEVENT
DTSTART;VALUE=DATE:20240608
DTEND;VALUE=DATE:20240609
TRANSP:TRANSPARENT
X-MICROSOFT-CDO-ALLDAYEVENT:TRUE
SUMMARY:Magic for Morgan at Evans Park
DESCRIPTION:Join the Town of Millville for the fundraiser Magic for Morgan on Saturday\, June 8th from 10am - 3pm at Evans Park.\n\n\n\nMorgan is a beautiful\, local 8-year old girl who has recently been diagnosed with a cancerous brain tumor. Her long road to recovery will include hospital stays\, chemo\, radiation and post op care.\n\n\n\nThe event will have family friendly activities including a petting zoo\, face painting\, inflatables\, creative balloons with Rigo\, a DJ\, food trucks\, vendors\, and more!\n\n\n\nProceeds from the event will be donated to her family to help with costs.\n\n\n\nContact Sherry 302-249-7763 or Emmy 302-682-9113 with questions.
X-ALT-DESC;FMTTYPE=text/html:Join the Town of Millville for the fundraiser Magic for Morgan on Saturday\, June 8th from 10am - 3pm at Evans Park.<br />\n<br />\nMorgan is a beautiful\, local 8-year old girl who has recently been diagnosed with a cancerous brain tumor. Her long road to recovery will include hospital stays\, chemo\, radiation and post op care.<br />\n<br />\nThe event will have family friendly activities including a petting zoo\, face painting\, inflatables\, creative balloons with Rigo\, a DJ\, food trucks\, vendors\, and more!<br />\n<br />\nProceeds from the event will be donated to her family to help with costs.<br />\n<br />\nContact Sherry 302-249-7763 or Emmy 302-682-9113 with questions.
LOCATION:Evans Park 32517 Dukes Dr. Millville\, DE 19967
UID:e.2126.30040
SEQUENCE:3
DTSTAMP:20260420T090628Z
URL:http://business.thequietresorts.com/events/details/magic-for-morgan-at-evans-park-30040
END:VEVENT

END:VCALENDAR
