BEGIN:VCALENDAR
VERSION:2.0
PRODID:-//ChamberMaster//Event Calendar 2.0//EN
METHOD:PUBLISH
X-PUBLISHED-TTL:P3D
REFRESH-INTERVAL:P3D
CALSCALE:GREGORIAN
BEGIN:VEVENT
DTSTART:20231215T140000Z
DTEND:20231215T220000Z
X-MICROSOFT-CDO-ALLDAYEVENT:FALSE
SUMMARY:Made By Hand International Co-op Customer Appreciation Day
DESCRIPTION:Stop by Made by Hand International Co-op on Friday\, December 15th\, for their Customer Appreciation Day!\n\n\n\nWhether you're celebrating Kwanzaa\, Christmas\, or Hanukkah\, come taste holiday treats from different countries and all purchases are 20% off!\n\n\n\nFair Trade: Making a difference\, one purchase at a time!\n\n\n\nJOYEUX NOEL ~ MERRY CHRISTMAS ~ HAPPY HANUKKAH ~GAYAYR NWEL ~ FELIZ NAVIDAD ~ BUON NATALE~ MELE KALIKIMAKA
X-ALT-DESC;FMTTYPE=text/html:Stop by Made by Hand International Co-op on Friday\, December 15th\, for their Customer Appreciation Day!<br />\n<br />\nWhether you&#39\;re celebrating Kwanzaa\, Christmas\, or Hanukkah\, come taste holiday treats from different countries and all purchases are 20% off!<br />\n<br />\nFair Trade: Making a difference\, one purchase at a time!<br />\n<br />\n<span style="color:#FF0000\;">JOYEUX NOEL</span> ~ <span style="color:#008000\;">MERRY CHRISTMAS</span> ~ <span style="color:#FF0000\;">HAPPY HANUKKAH</span> ~<span style="color:#006400\;">GAYAYR NWEL</span> ~ <span style="color:#FF0000\;">FELIZ NAVIDAD</span> ~ <span style="color:#006400\;">BUON NATALE</span>~ <span style="color:#FF0000\;">MELE KALIKIMAKA</span>
LOCATION:Made by Hand International Co-op York Beach Mall 34444 Coastal Hwy. South Bethany\, DE 19930
UID:e.2126.27321
SEQUENCE:3
DTSTAMP:20260420T164944Z
URL:http://business.thequietresorts.com/events/details/made-by-hand-international-co-op-customer-appreciation-day-27321
END:VEVENT

END:VCALENDAR
