BEGIN:VCALENDAR
VERSION:2.0
PRODID:-//ChamberMaster//Event Calendar 2.0//EN
METHOD:PUBLISH
X-PUBLISHED-TTL:P3D
REFRESH-INTERVAL:P3D
CALSCALE:GREGORIAN
BEGIN:VEVENT
DTSTART:20191212T000000Z
DTEND:20191212T020000Z
X-MICROSOFT-CDO-ALLDAYEVENT:FALSE
SUMMARY:M-I-N-G-O at The Salted Rim
DESCRIPTION:M-I-N-G-O\n\nMusic Bingo\n\n7 pm\n\nThe Salted Rim in Ocean View\, DE\n\nwith DJ Pat\n\nEvery Wednesday \n\n \n\nFree to Play              Must be 21\n\n\n\n \n\nCome join us for M-I-N-G-O every Wednesday at 7:00 pm for a chance to win $100 Salted Rim Gift Card after each round.\n\n \n\nSpecials\n\n\n\nBuild-A-Burger & Fries starts at $6    11-9\n\n$2 - Domestic Drafts\n\n$3 - Domestic Bottles\n\n$5 - Craft Drafts\n\n$4 - Craft Bottles\n\n\n\nVisit our website http://saltedrimde.com and check out all of our events including Bingo on Monday's\, Karaoke on Tuesday's and Trivia on Thursday's.\n\n\n\nHope to see your there!!
X-ALT-DESC;FMTTYPE=text/html:<div style="text-align: center\;"><span style="font-size: 14px\;"><span style="font-family: arial\;"><strong><span style="font-size: 20px\;"><span style="color: rgb(0\, 0\, 205)\;">M-I-N-G-O<br />\n<span style="font-size: 18px\;">Music Bingo</span></span></span><br />\n7 pm<br />\nThe Salted Rim in Ocean View\, DE<br />\nwith DJ Pat<br />\nEvery Wednesday&nbsp\;</strong></span></span><br />\n&nbsp\;</div>\n\n<div style="text-align: center\;"><span style="font-size: 14px\;"><strong>Free to Play&nbsp\; &nbsp\; &nbsp\; &nbsp\; &nbsp\; &nbsp\; &nbsp\; Must be 21</strong></span></div>\n\n<div style="text-align: center\;"><br />\n&nbsp\;</div>\n\n<div><span style="font-size: 14px\;"><span style="font-family: arial\;">Come join us for M-I-N-G-O every Wednesday at 7:00 pm for a chance to win $100 Salted Rim Gift Card after each round.</span></span><br />\n&nbsp\;</div>\n\n<div style="text-align: center\;"><span style="font-size: 14px\;"><strong><span style="color: rgb(0\, 0\, 255)\;">Specials</span><br />\n<br />\nBuild-A-Burger &amp\; Fries&nbsp\;starts at&nbsp\;$6&nbsp\; &nbsp\;&nbsp\;11-9<br />\n$2 - Domestic Drafts<br />\n$3 - Domestic Bottles<br />\n$5 - Craft Drafts<br />\n$4 - Craft Bottles</strong></span></div>\n\n<div><br />\n<span style="font-size: 14px\;"><span style="font-family: arial\;">Visit our website <a href="http://saltedrimde.com">http://saltedrimde.com</a>&nbsp\;and check out all of our events including Bingo on Monday&#39\;s\, Karaoke on Tuesday&#39\;s and Trivia on Thursday&#39\;s.</span></span></div>\n\n<div><br />\n<span style="font-size: 14px\;"><span style="font-family: arial\;"><strong><span style="color: rgb(0\, 0\, 0)\;">Hope to see your there!!</span></strong></span></span></div>\n\n<div style="text-align: center\;">&nbsp\;</div>\n
LOCATION:The Salted Rim 27 Atlantic Avenue Ocean View\, DE 19970 302-537-7373
UID:e.2126.17206
SEQUENCE:3
DTSTAMP:20260426T034609Z
URL:http://business.thequietresorts.com/events/details/m-i-n-g-o-at-the-salted-rim-12-11-2019-17206
END:VEVENT

END:VCALENDAR
