BEGIN:VCALENDAR
VERSION:2.0
PRODID:-//ChamberMaster//Event Calendar 2.0//EN
METHOD:PUBLISH
X-PUBLISHED-TTL:P3D
REFRESH-INTERVAL:P3D
CALSCALE:GREGORIAN
BEGIN:VEVENT
DTSTART:20240328T230000Z
DTEND:20240329T010000Z
X-MICROSOFT-CDO-ALLDAYEVENT:FALSE
SUMMARY:Lowercase Blues Rocks the Dickens
DESCRIPTION:Let's ROCK THE DICKENS with LOWERCASE BLUES! Since 2003 LOWERCASE BLUES has been giving Delaware and the tri-state area some of the best blends of blues and rock music.
X-ALT-DESC;FMTTYPE=text/html:<strong>Let&#39\;s ROCK THE DICKENS with LOWERCASE BLUES! Since 2003 LOWERCASE BLUES has been giving Delaware and the tri-state area some of the best blends of blues and rock music.</strong>
LOCATION:Dickens Parlour Theatre 31810 Good Earth Lane Ocean View\, DE 19970
UID:e.2126.28498
SEQUENCE:3
DTSTAMP:20260420T073214Z
URL:http://business.thequietresorts.com/events/details/lowercase-blues-rocks-the-dickens-28498
END:VEVENT

END:VCALENDAR
