BEGIN:VCALENDAR
VERSION:2.0
PRODID:-//ChamberMaster//Event Calendar 2.0//EN
METHOD:PUBLISH
X-PUBLISHED-TTL:P3D
REFRESH-INTERVAL:P3D
CALSCALE:GREGORIAN
BEGIN:VEVENT
DTSTART:20240414T160000Z
DTEND:20240414T230000Z
X-MICROSOFT-CDO-ALLDAYEVENT:FALSE
SUMMARY:Lower Slower Delaware Festival
DESCRIPTION:Lower Slower Delaware Festival at Salted Vines Vineyard & Winery in Frankford\, DE\n\n\n\nJoin Cancer Support Community at Salted Vines Vineyard & Winery on Sunday\, April 14th from 12noon - 7PM for the Lower Slower Festival to enjoy Wine\, Live Music\, Shopping & Fun! \n\n\n\n- Salted Vines Lower Slower Delaware Wine Release\n\n- Shop local vendors from 12-5pm\n\n- Enjoy Four local Food Trucks on site\n\n- Listen to Live Music (Cathy Lane from 12-3PM and Love Seed Mama Jump from 4-7PM)\n\n\n\nSalted Vines will be donating a portion of the days sales to Cancer Support Community DE
X-ALT-DESC;FMTTYPE=text/html:Lower Slower Delaware Festival at Salted Vines Vineyard &amp\; Winery in Frankford\, DE<br />\n<br />\nJoin Cancer Support Community at Salted Vines Vineyard &amp\; Winery on Sunday\, April 14th from 12noon - 7PM for the Lower Slower Festival to enjoy Wine\, Live Music\, Shopping &amp\; Fun!&nbsp\;<br />\n<br />\n- Salted Vines Lower Slower Delaware Wine Release<br />\n- Shop local vendors from 12-5pm<br />\n- Enjoy&nbsp\;Four local Food Trucks on site<br />\n- Listen to Live Music (Cathy Lane from 12-3PM and Love Seed Mama Jump from 4-7PM)<br />\n<br />\n<em>Salted Vines will be donating a portion of the days sales to Cancer Support Community DE</em>
LOCATION:Salted Vines Vineyard & Winery 32512 Rd. 374 Frankford DE 19945
UID:e.2126.28666
SEQUENCE:3
DTSTAMP:20260420T060634Z
URL:http://business.thequietresorts.com/events/details/lower-slower-delaware-festival-28666
END:VEVENT

END:VCALENDAR
