BEGIN:VCALENDAR
VERSION:2.0
PRODID:-//ChamberMaster//Event Calendar 2.0//EN
METHOD:PUBLISH
X-PUBLISHED-TTL:P3D
REFRESH-INTERVAL:P3D
CALSCALE:GREGORIAN
BEGIN:VEVENT
DTSTART:20221023T220000Z
DTEND:20221023T233000Z
X-MICROSOFT-CDO-ALLDAYEVENT:FALSE
SUMMARY:Lower Case Blues
DESCRIPTION:Lower Case Blues is a Blues trio from the eastern shore known for its unique instrumental style.  LCB plays modern blues with high energy and improvisation while paying tribute to its tradition and roots.  They have recorded several albums and played countless shows and festivals.
X-ALT-DESC;FMTTYPE=text/html:Lower Case Blues is a Blues trio from the eastern shore known for its unique instrumental style. &nbsp\;LCB plays modern blues with high energy and improvisation while paying tribute to its tradition and roots. &nbsp\;They have recorded several albums and played countless shows and festivals.&nbsp\;
LOCATION:Bethany Beach Bandstand
UID:e.2126.24045
SEQUENCE:3
DTSTAMP:20260421T160447Z
URL:http://business.thequietresorts.com/events/details/lower-case-blues-10-23-2022-24045
END:VEVENT

END:VCALENDAR
