BEGIN:VCALENDAR
VERSION:2.0
PRODID:-//ChamberMaster//Event Calendar 2.0//EN
METHOD:PUBLISH
X-PUBLISHED-TTL:P3D
REFRESH-INTERVAL:P3D
CALSCALE:GREGORIAN
BEGIN:VEVENT
DTSTART:20221009T220000Z
DTEND:20221009T233000Z
X-MICROSOFT-CDO-ALLDAYEVENT:FALSE
SUMMARY:Love Seed Mama Jump
DESCRIPTION:Love Seed Mama Jump is a six-piece rock band from Dewey Beach\, Delaware. Their music is described as 'guitar-driven pop rock'- a blend of modern beats and melodic hooks delivered with powerful\, impassioned vocals.
X-ALT-DESC;FMTTYPE=text/html:Love Seed Mama Jump is a six-piece rock band from Dewey Beach\, Delaware. Their music is described as &lsquo\;guitar-driven pop rock&lsquo\;- a blend of modern beats and melodic hooks delivered with powerful\, impassioned vocals.&nbsp\;
LOCATION:Bethany Beach Bandstand
UID:e.2126.24041
SEQUENCE:3
DTSTAMP:20260421T173216Z
URL:http://business.thequietresorts.com/events/details/love-seed-mama-jump-10-09-2022-24041
END:VEVENT

END:VCALENDAR
