BEGIN:VCALENDAR
VERSION:2.0
PRODID:-//ChamberMaster//Event Calendar 2.0//EN
METHOD:PUBLISH
X-PUBLISHED-TTL:P3D
REFRESH-INTERVAL:P3D
CALSCALE:GREGORIAN
BEGIN:VEVENT
DTSTART:20210705T233000Z
DTEND:20210706T010000Z
X-MICROSOFT-CDO-ALLDAYEVENT:FALSE
SUMMARY:Love Seed Mama Jump
DESCRIPTION:Love Seed Mama Jump is a six-piece rock band from Dewey Beach\, Delaware. Their music is described as "guitar-driven pop rock"- a blend of modern beats and melodic hooks delivered with powerful\, impassioned vocals. www.loveseed.com
X-ALT-DESC;FMTTYPE=text/html:<span style="background-color:rgba(255\, 255\, 255\, 0.95)\; color:rgb(68\, 68\, 68)\; font-family:arial\; font-size:14.4px">Love Seed Mama Jump is a six-piece rock band from Dewey Beach\, Delaware. Their music is described as &ldquo\;guitar-driven pop rock&rdquo\;- a blend of modern beats and melodic hooks delivered with powerful\, impassioned vocals. www.loveseed.com</span>
LOCATION:Bethany Beach Bandstand Garfield Parkway & Boardwalk\, Bethany Beach
UID:e.2126.22567
SEQUENCE:3
DTSTAMP:20260424T173304Z
URL:http://business.thequietresorts.com/events/details/love-seed-mama-jump-07-05-2021-22567
END:VEVENT

END:VCALENDAR
