BEGIN:VCALENDAR
VERSION:2.0
PRODID:-//ChamberMaster//Event Calendar 2.0//EN
METHOD:PUBLISH
X-PUBLISHED-TTL:P3D
REFRESH-INTERVAL:P3D
CALSCALE:GREGORIAN
BEGIN:VEVENT
DTSTART:20220930T230000Z
DTEND:20221001T010000Z
X-MICROSOFT-CDO-ALLDAYEVENT:FALSE
SUMMARY:Love Life Women's Conference
DESCRIPTION:Join Mariners for the 2022 Love Life Conference featuring Joyce Meyer and a host of speakers.  This event will be live streamed and will kick off with a concert from Chris Tomlin on Friday September 30 from 7-9PM.  The event continues on Saturday from 9AM - 3PM. \n\n\n\nThe fee is $20.00 per person and includes snacks and Saturday lunch. \n\n\n\nChildcare will be provided at no additional costs.  All children must be pre-registered and come with their own snacks and Saturday lunch.  Join this epic event by registering at:  https://marinersbethel.churchcenter.com/registrations/events/1406114
X-ALT-DESC;FMTTYPE=text/html:<span style="font-family:arial\;"><span style="font-size:14px\;">Join Mariners for the 2022 Love Life Conference featuring Joyce Meyer and a host of speakers.&nbsp\; This event will be live streamed and will kick off with a concert from Chris Tomlin on Friday September 30 from 7-9PM.&nbsp\; The event continues on Saturday from 9AM - 3PM.&nbsp\;<br />\n<br />\nThe fee is $20.00 per person and includes snacks and Saturday lunch.&nbsp\;<br />\n<br />\nChildcare will be provided at no additional costs.&nbsp\; All children must be pre-registered and come with their own snacks and Saturday lunch.&nbsp\; Join this epic event by registering at:&nbsp\; https://marinersbethel.churchcenter.com/registrations/events/1406114</span></span>
LOCATION:81 Central Ave. Ocean View\, DE 19970
UID:e.2126.24190
SEQUENCE:3
DTSTAMP:20260421T173338Z
URL:http://business.thequietresorts.com/events/details/love-life-women-s-conference-24190
END:VEVENT

END:VCALENDAR
