BEGIN:VCALENDAR
VERSION:2.0
PRODID:-//ChamberMaster//Event Calendar 2.0//EN
METHOD:PUBLISH
X-PUBLISHED-TTL:P3D
REFRESH-INTERVAL:P3D
CALSCALE:GREGORIAN
BEGIN:VEVENT
DTSTART:20200229T000000Z
DTEND:20200229T010000Z
X-MICROSOFT-CDO-ALLDAYEVENT:FALSE
SUMMARY:Love Letters
DESCRIPTION:Love Letters is a play by A. R. Gurney that was a finalist for the Pulitzer Prize for Drama. The play centers on two characters\, Melissa Gardner and Andrew Makepeace Ladd III. Using the epistolary form sometimes found in novels\, they sit side by side at tables and read the notes\, letters and cards - in which over nearly 50 years\, they discuss their hopes and ambitions\, dreams and disappointments\, victories and defeats - that have passed between them throughout their separated lives. Love Letters is presented by special arrangement with Dramatists Play Service\, Inc.\, New York. Performances by Bob Kemp & Liane Hansen\, directed by James Vagias.\n\n\n\n*All performances subject to change. All performers subject to change without notice*
X-ALT-DESC;FMTTYPE=text/html:<span style="font-family: arial\;"><span style="font-size: 14px\;">Love Letters is a play by A. R. Gurney that was a finalist for the Pulitzer Prize for Drama. The play centers on two characters\, Melissa Gardner and Andrew Makepeace Ladd III. Using the epistolary form sometimes found in novels\, they sit side by side at tables and read the notes\, letters and cards - in which over nearly 50 years\, they discuss their hopes and ambitions\, dreams and disappointments\, victories and defeats - that have passed between them throughout their separated lives. Love Letters is presented by special arrangement with Dramatists Play Service\, Inc.\, New York. Performances by Bob Kemp &amp\; Liane Hansen\, directed by James Vagias.<br />\n<br />\n*All performances subject to change. All performers subject to change without notice*</span></span>
LOCATION:Dickens Parlour Theatre 35715 Atlantic Ave Millville\, DE 19967
UID:e.2126.19659
SEQUENCE:3
DTSTAMP:20260426T003306Z
URL:http://business.thequietresorts.com/events/details/love-letters-02-28-2020-19659
END:VEVENT

END:VCALENDAR
