BEGIN:VCALENDAR
VERSION:2.0
PRODID:-//ChamberMaster//Event Calendar 2.0//EN
METHOD:PUBLISH
X-PUBLISHED-TTL:P3D
REFRESH-INTERVAL:P3D
CALSCALE:GREGORIAN
BEGIN:VEVENT
DTSTART:20221117T233000Z
DTEND:20221118T020000Z
X-MICROSOFT-CDO-ALLDAYEVENT:FALSE
SUMMARY:Los Siete Misterios Mezcal Dinner
DESCRIPTION:Four course pairing dinner featuring Los Siete Misterios Mezcal! Food menu created by Chef Danio Somoza. Doors open at 6pm and the dinner begins at 630pm!\n\n\n \nFree Street Parking in town!
X-ALT-DESC;FMTTYPE=text/html:<div>\n<p><strong>Four course pairing dinner featuring Los Siete Misterios Mezcal! Food menu created by Chef Danio Somoza. Doors open at 6pm and the dinner begins at 630pm!</strong></p>\n</div>\n\n<div>&nbsp\;</div>\n<strong>Free Street Parking in town!</strong>
LOCATION:Zoca Modern Mexican Bethany Beach 98 Garfield Pkwy\, Bethany Beach\, DE 19930 Free Street Parking in town!
UID:e.2126.24775
SEQUENCE:3
DTSTAMP:20260421T141957Z
URL:http://business.thequietresorts.com/events/details/los-siete-misterios-mezcal-dinner-24775
END:VEVENT

END:VCALENDAR
