BEGIN:VCALENDAR
VERSION:2.0
PRODID:-//ChamberMaster//Event Calendar 2.0//EN
METHOD:PUBLISH
X-PUBLISHED-TTL:P3D
REFRESH-INTERVAL:P3D
CALSCALE:GREGORIAN
BEGIN:VEVENT
DTSTART:20240810T110000Z
DTEND:20240810T160000Z
X-MICROSOFT-CDO-ALLDAYEVENT:FALSE
SUMMARY:Lord Baltimore Lions Club Yard & Bake Sale
DESCRIPTION:The Lord Baltimore Lions Club will be holding a Yard and Bake Sale at the Lord Baltimore Elementary School on August 10th weather permitting. Come out and see out treasures and treats while supporting our Club.\n\n\n\n100% of all proceeds will be used in local community projects such as hunger\, health services\, disaster relief\, diabetes awareness. and childhood cancer.
X-ALT-DESC;FMTTYPE=text/html:The Lord Baltimore Lions Club will be holding a Yard and Bake Sale at the Lord Baltimore Elementary School on August 10th weather permitting. Come out and see out treasures and treats while supporting our Club.<br />\n<br />\n100% of all&nbsp\;proceeds will be used in local community projects such as hunger\, health services\, disaster relief\, diabetes awareness. and childhood cancer.&nbsp\; &nbsp\;
LOCATION:Lord Baltimore Elementary School 120 Atlantic Ave. Ocean View\, DE 19970
UID:e.2126.30595
SEQUENCE:3
DTSTAMP:20260420T134148Z
URL:http://business.thequietresorts.com/events/details/lord-baltimore-lions-club-yard-bake-sale-30595
END:VEVENT

END:VCALENDAR
