BEGIN:VCALENDAR
VERSION:2.0
PRODID:-//ChamberMaster//Event Calendar 2.0//EN
METHOD:PUBLISH
X-PUBLISHED-TTL:P3D
REFRESH-INTERVAL:P3D
CALSCALE:GREGORIAN
BEGIN:VEVENT
DTSTART:20240607T230000Z
DTEND:20240608T020000Z
X-MICROSOFT-CDO-ALLDAYEVENT:FALSE
SUMMARY:Locals Under the Lights at Freeman Arts Pavilion
DESCRIPTION:ADMISSION: FREE\n\nLocals Under the Lights returns to Freeman Pavilion for the 11th season! Audience members can sit back\, relax and enjoy local and up-and-coming artists perform on the same stage as national acts\, such as Cole Swindell\, George Thorogood as well as Patti LaBelle and Gladys Knight! \n\nInterested in participating in this season's Locals Under the Lights? A submission form can be found here.
X-ALT-DESC;FMTTYPE=text/html:<h6>ADMISSION: FREE</h6>\n\n<p>Locals Under the Lights returns to Freeman Pavilion for the 11th season! Audience members can sit back\, relax and enjoy local and up-and-coming artists perform on the same stage as national acts\, such as Cole Swindell\, George Thorogood as well as Patti LaBelle and Gladys Knight!&nbsp\;</p>\n\n<p style="text-align:center"><em>Interested in participating in this season&#39\;s Locals Under the Lights? A submission form can be found&nbsp\;<a href="https://form.jotform.com/70800667681157" style="box-sizing: border-box\; background-color: transparent\; color: rgb(191\, 88\, 0)\; transition: all 0.3s ease 0s\;">here</a>.</em></p>\n
LOCATION:Freeman Arts Pavilion 31806 Lakeview Drive Seblyville\, DE 19975
UID:e.2126.28629
SEQUENCE:3
DTSTAMP:20260420T091027Z
URL:http://business.thequietresorts.com/events/details/locals-under-the-lights-at-freeman-arts-pavilion-28629
END:VEVENT

END:VCALENDAR
