BEGIN:VCALENDAR
VERSION:2.0
PRODID:-//ChamberMaster//Event Calendar 2.0//EN
METHOD:PUBLISH
X-PUBLISHED-TTL:P3D
REFRESH-INTERVAL:P3D
CALSCALE:GREGORIAN
BEGIN:VEVENT
DTSTART:20230706T230000Z
DTEND:20230707T020000Z
X-MICROSOFT-CDO-ALLDAYEVENT:FALSE
SUMMARY:Locals Under the Lights
DESCRIPTION:ADMISSION: FREE\n\nCHAIRS WILL BE PROVIDED FOR THIS PERFORMANCE\n\nLocals Under the Lights returns to Freeman Pavilion for the 10th season! Audience members can sit back\, relax and enjoy local and up-and-coming artists perform on the same stage as national acts\, such as Darius Rucker\, Styx and Lady A!
X-ALT-DESC;FMTTYPE=text/html:<h6>ADMISSION: FREE</h6>\n\n<h6>CHAIRS WILL BE PROVIDED FOR THIS PERFORMANCE</h6>\n\n<p>Locals Under the Lights returns to Freeman Pavilion for the 10th season! Audience members can sit back\, relax and enjoy local and up-and-coming artists perform on the same stage as national acts\, such as Darius Rucker\, Styx and Lady A!</p>\n
LOCATION:Freeman Arts Pavilion a program of the Joshua M. Freeman Foundation is a champion of the arts on Delmarva\, providing diverse arts performances as well as arts access programs for local schools and the community at large. From June-September the Freeman Arts Pavilion is an open-air performance space showcasing music\, dance\, comedy\, theater\, children's programs\, and free events.
UID:e.2126.26091
SEQUENCE:3
DTSTAMP:20260420T230437Z
URL:http://business.thequietresorts.com/events/details/locals-under-the-lights-07-06-2023-26091
END:VEVENT

END:VCALENDAR
