BEGIN:VCALENDAR
VERSION:2.0
PRODID:-//ChamberMaster//Event Calendar 2.0//EN
METHOD:PUBLISH
X-PUBLISHED-TTL:P3D
REFRESH-INTERVAL:P3D
CALSCALE:GREGORIAN
BEGIN:VEVENT
DTSTART:20240419T100000Z
DTEND:20240419T140000Z
X-MICROSOFT-CDO-ALLDAYEVENT:FALSE
SUMMARY:Locals Day with Ocean 98 at Coastal Wilds
DESCRIPTION:Friday\, April 19th from 6am-4pm\n\n\nAll-Day Self-Guided Park Access until 4pm\n\nRUDE AWAKENING SHOW from 6am to 10am\n\nCome party with our friends from Ocean 98\, broadcasting LIVE from Coastal Wilds\, for a WILD day of animal encounters\, music\, breakfast (Turtle Beach Cafe)\, games\, and more for ONLY $9.81!
X-ALT-DESC;FMTTYPE=text/html:<p><strong>Friday\, April 19th from 6am-4pm</strong></p>\n\n<div>\n<p>All-Day Self-Guided Park Access&nbsp\;until 4pm<br />\nRUDE AWAKENING SHOW&nbsp\;from 6am to 10am</p>\n\n<p>Come party with our friends from Ocean 98\, broadcasting LIVE from Coastal Wilds\, for a WILD day of animal encounters\, music\, breakfast (Turtle Beach Cafe)\, games\, and more for ONLY $9.81!</p>\n</div>\n
LOCATION:Coastal Wilds 34215 Peppers Corner Rd. Frankford\, DE 19945
UID:e.2126.28774
SEQUENCE:3
DTSTAMP:20260420T073558Z
URL:http://business.thequietresorts.com/events/details/locals-day-with-ocean-98-at-coastal-wilds-28774
END:VEVENT

END:VCALENDAR
