BEGIN:VCALENDAR
VERSION:2.0
PRODID:-//ChamberMaster//Event Calendar 2.0//EN
METHOD:PUBLISH
X-PUBLISHED-TTL:P3D
REFRESH-INTERVAL:P3D
CALSCALE:GREGORIAN
BEGIN:VEVENT
DTSTART;VALUE=DATE:20220313
DTEND;VALUE=DATE:20220321
TRANSP:TRANSPARENT
X-MICROSOFT-CDO-ALLDAYEVENT:TRUE
SUMMARY:Local Cuisine DE "Restaurant Week"
DESCRIPTION:Join us for Restaurant Week: March 13-20!\n\nThe Bethany-Fenwick Area Chamber of Commerce in partnership with the Coastal Point are very excited to announce Local Cuisine DE "Restaurant Week." Each participating restaurant creates special menus or offerings to showcase. Check in at LocalCuisineDE.com to view participating restaurants and find your favorite spot to dine and enjoy Delaware!\n\nMenus coming soon.\n\n\n\nParticipating Restaurants:\n\n99 Sea Level\n\nBethany Blues- Bethany Beach\n\nFins Ale House & Raw Bar\n\nGood Earth Market\n\nHarvest Tide Steakhouse- Bethany Beach\n\nJust Hooked\n\nMatt's Fish Camp- Bethany Beach\n\nOff the Hook\n\nSynergy Cafe\n\nThe Salted Rim\n\nTopsail Steamer\n\n\n\nParticipating Accommodations:\n\nFenwick Shores\, Tapestry by Hilton
X-ALT-DESC;FMTTYPE=text/html:<p dir="ltr" style="line-height: 1.38\; margin-top: 0pt\; margin-bottom: 0pt\;"><span style="font-size:14px\;"><span id="docs-internal-guid-1497c18f-7fff-0ce9-11d0-32746ca4a1c3"><span style="color: rgb(0\, 0\, 0)\; font-family: Arial\; font-weight: 700\; vertical-align: baseline\; white-space: pre-wrap\; background-color: transparent\; font-variant-numeric: normal\; font-variant-east-asian: normal\; text-decoration-line: underline\; text-decoration-skip-ink: none\;">Join us for Restaurant Week: March 13-20!</span></span></span></p>\n\n<p dir="ltr" style="line-height: 1.38\; margin-top: 0pt\; margin-bottom: 0pt\;"><span style="font-size:14px\;"><span id="docs-internal-guid-1497c18f-7fff-0ce9-11d0-32746ca4a1c3"><span style="color: rgb(0\, 0\, 0)\; font-family: Arial\; vertical-align: baseline\; white-space: pre-wrap\; background-color: transparent\; font-variant-numeric: normal\; font-variant-east-asian: normal\;">The Bethany-Fenwick Area Chamber of Commerce in partnership with the Coastal Point are very excited to announce Local Cuisine DE &quot\;Restaurant Week.&quot\; Each participating restaurant creates special menus or offerings to showcase. Check in at LocalCuisineDE.com to view participating restaurants and find your favorite spot to dine and enjoy Delaware!<br />\nMenus coming soon.</span></span><br />\n<br />\n<span id="docs-internal-guid-1497c18f-7fff-0ce9-11d0-32746ca4a1c3"><span style="color: rgb(0\, 0\, 0)\; font-family: Arial\; vertical-align: baseline\; white-space: pre-wrap\; background-color: transparent\; font-variant-numeric: normal\; font-variant-east-asian: normal\;"><strong>Participating Restaurants:</strong></span></span></span><br />\n<span style="font-size:14px\;"><span><span style="color: rgb(0\, 0\, 0)\; font-family: Arial\; vertical-align: baseline\; white-space: pre-wrap\; background-color: transparent\; font-variant-numeric: normal\; font-variant-east-asian: normal\;"><a href="https://localcuisinede.com/restaurant/99-sea-level/" target="_blank">99 Sea Level</a><br />\n<a href="https://localcuisinede.com/restaurant/bethany-blues/" target="_blank">Bethany Blues- Bethany Beach</a><br />\n<a href="https://localcuisinede.com/restaurant/fins-ale-house-raw-bar/" target="_blank">Fins Ale House &amp\; Raw Bar</a><br />\n<a href="https://localcuisinede.com/restaurant/good-earth-market/" target="_blank">Good Earth Market</a><br />\n<a href="https://localcuisinede.com/restaurant/harvest-tide-steakhouse/" target="_blank">Harvest Tide Steakhouse- Bethany Beach</a><br />\n<a href="https://localcuisinede.com/restaurant/just-hooked/" target="_blank">Just Hooked</a><br />\n<a href="https://localcuisinede.com/restaurant/matt-s-fish-camp-bethany/" target="_blank">Matt&#39\;s Fish Camp- Bethany Beach</a><br />\n<a href="https://localcuisinede.com/restaurant/off-the-hook/" target="_blank">Off the Hook</a><br />\n<a href="https://localcuisinede.com/restaurant/synergy-cafe/" target="_blank">Synergy Cafe</a><br />\n<a href="https://localcuisinede.com/restaurant/the-salted-rim-margarita-bar-grill/" target="_blank">The Salted Rim</a><br />\n<a href="https://localcuisinede.com/restaurant/topsail-steamer/" target="_blank">Topsail Steamer</a><br />\n<br />\n<strong>Participating Accommodations:</strong></span></span><br />\n<a href="https://www.hilton.com/en/hotels/sbyfsup-fenwick-shores/" target="_blank">Fenwick Shores\, Tapestry by Hilton</a></span></p>\n
LOCATION:Local restaurants in the Quiet Resorts region
UID:e.2126.23454
SEQUENCE:3
DTSTAMP:20260424T054733Z
URL:http://business.thequietresorts.com/events/details/local-cuisine-de-restaurant-week-03-13-2022-23454
END:VEVENT

END:VCALENDAR
