BEGIN:VCALENDAR
VERSION:2.0
PRODID:-//ChamberMaster//Event Calendar 2.0//EN
METHOD:PUBLISH
X-PUBLISHED-TTL:P3D
REFRESH-INTERVAL:P3D
CALSCALE:GREGORIAN
BEGIN:VEVENT
DTSTART:20230603T113000Z
DTEND:20230603T140000Z
X-MICROSOFT-CDO-ALLDAYEVENT:FALSE
SUMMARY:Lions / Leos Pancake Breakfast
DESCRIPTION:Fenwick Island Lions Club and Indian River high School Leo's Club are hosting a Pancake breakfast at the Salted Rim restaurant. The menu includes pancakes\, sausage\, scrambled eggs\, juice\, and coffee. \n\n Adults are $12.00 and children 3-10 years of age are $6.00.  Breakfast serving starts at 7:30 am until 10:00 am on June 3rd.  Pay at the door or buy tickets early.  All proceeds will benefit local charitable activities including vision care\, local scholarships\, and disaster relief.  Visit our web sites to learn more about The Lions and Leos. www.delawarelions.org/   www.lionsclubs.org
X-ALT-DESC;FMTTYPE=text/html:Fenwick Island Lions Club and Indian River high School Leo&rsquo\;s Club are hosting a Pancake breakfast at the Salted Rim restaurant. The menu includes pancakes\, sausage\, scrambled eggs\, juice\, and coffee.&nbsp\;<br />\n&nbsp\;<strong>Adults are $12.00 and children 3-10 years of age are $6.00.</strong>&nbsp\; Breakfast serving starts at 7:30 am until 10:00 am on June 3<sup>rd</sup>.&nbsp\; Pay at the door or buy tickets early.&nbsp\; All proceeds will benefit local charitable activities including vision care\, local scholarships\, and disaster relief.&nbsp\; Visit our web sites to learn more about The Lions and Leos. <a href="http://www.delawarelions.org/"><span style="color:windowtext">www.delawarelions.org/</span></a>&nbsp\;&nbsp\; <a href="http://www.lionsclubs.org/"><span style="color:windowtext">www.lionsclubs.org</span></a>&nbsp\;&nbsp\;&nbsp\;<br />\n&nbsp\;
LOCATION:The Salted Rim 35553 Atlantic Ave\, Millville
UID:e.2126.25833
SEQUENCE:3
DTSTAMP:20260421T004618Z
URL:http://business.thequietresorts.com/events/details/lions-leos-pancake-breakfast-25833
END:VEVENT

END:VCALENDAR
