BEGIN:VCALENDAR
VERSION:2.0
PRODID:-//ChamberMaster//Event Calendar 2.0//EN
METHOD:PUBLISH
X-PUBLISHED-TTL:P3D
REFRESH-INTERVAL:P3D
CALSCALE:GREGORIAN
BEGIN:VEVENT
DTSTART;VALUE=DATE:20230127
DTEND;VALUE=DATE:20230130
TRANSP:TRANSPARENT
X-MICROSOFT-CDO-ALLDAYEVENT:TRUE
SUMMARY:"Lights\, Camera\, Action!" Weekend "Walk of Fame" Sites
DESCRIPTION:Don't miss the action happening throughout the entire festival weekend at a number of additional sites throughout the Quiet Resorts. The restaurants participating in the Tasting Tour will be open all weekend long and will each have their own featured sculpture on site.\n\n\n\nSee below for a full list of participating businesses\, entertainment lineups\, and featured menus that go along with the Hollywood theme!\n\n\n\nParticipating Restaurants (by town):\n\n\n\nIn Bethany Beach:\n\n\n\nBETHANY BLUES: 6 N. Pennsylvania Ave.\n\n	Ice available to view starting: Saturday at 5:00PM\n	Featured cocktail: Hawaii 5-0 \n\n\n\nCOTTAGE CAFE: 33034 Coastal Hwy.\n\n\n	Ice available to view starting: Saturday at 11:00AM\n	Featured cocktail: Box of Chocolates\n	Bubba Gump Shrimp Menu Specials\n	\n		 Appetizer: Coconut Shrimp- house breaded coconut shrimp fried golden brown and served with a sweet thai chili sauce $15\n	\n	\n	Lunch: Shrimp Po Boy- shrimp\, andouille\, tomato\, swiss\, and chipotle mayo on a toasted sub roll with hand cut fries and coleslaw $18\n	Dinner: Shrimp and Grits- special recipe parmesan grits topped with a blend of green and red peppers\, yellow onion\, andouille sausage\, and grilled shrimp. Served with a side salad $18\n	Soup of the Day: Homemade Shrimp and Corn Chowder\n	Themed Desserts will be available\n\nMANGO'S: 97 Garfield Pkwy.\n\n\n	Ice available to view starting: Saturday at 5:00PM\n	Featured cocktail: Whiskey Business\n	Live Music: 19th Street Band\n	\n		 Saturday\, 9:30PM-11:00PM\n	\n	\n\nOFF THE HOOK: 769 Garfield Pkwy.\n\n\n	Ice available to view starting: Saturday at 3:00PM\n	Featured cocktail: The Wonka\n\n\n\nIn Millville:\n\n\n\nHOOKED UP: 38069 Town Center Dr. \n\n\n	Ice available to view starting: Saturday at 3:00PM\n	Featured cocktail: Eye of Sauron\n\n THE SALTED RIM: 35553 Atlantic Ave.\n\n\n	Ice available to view starting: Saturday at 11:30AM\n	Featured cocktail: The Afterburner Margarita\n	Menu Specials\n	\n		Mach 10 - Chicken Enchilada Soup - $8\n		\n			Loaded with shredded chicken\, corn\, beans and vegetables topped with cheese\, scallions\, cilantro and crispy tortilla strips\n		\n		\n		Danger Zone - Prime Rib Grilled Cheese - $14\n		\n			Thin sliced slow roasted prime rib\, provolone\, thyme horseradish sauce and frizzled onions between 2 slices of toasted buttered thick sour dough bread.\n		\n		\n		Wing Man -  Tuna Poke Bowl - $15\n		\n			Ahi tuna in a sesame-soy marinade\, steamed rice\, seaweed salad\, edamame\, crisp carrots and cucumber\, fresh avocado & pickled ginger\n		\n		\n		The Goose - Personal Naan Flatbread - $14\n		\n			Refried beans\, melted Mexican cheese blend\, seasoned ground beef or chicken\, lettuce\, pico de gallo\, corn salsa\, fresh cilantro\, Mexican crema.\n		\n		\n		The Maverick - Lobster Rolls - $19\n		\n			Tender lobster\, all tail meat\, in a light lemon-mayo with lettuce\, served on a toasted split top brioche lobster bun.\n		\n		\n		BOB - Fried Oreo Cookies - $8\n		\n			Oreo cookies dipped in a sweet batter and deep fried\, topped with powdered sugar\, whipped cream and chocolate drizzle (5)\n		\n		\n	\n	\n\n\n\n	Live Entertainment\n\n	\n		Friday\, January 27\n\n		\n			7:00 - 10:00PM:  Low Country \n		\n		\n		Saturday\, January 28\n		\n			2:00 - 6:00PM: Lowercase Blues \n			7:00 - 10:00PM: Lauren Glick Trio\n		\n		\n	\n	\n\n  In Ocean View:\n\n\n\nGOOD EARTH MARKET: 31806 Good Earth Ln.\n\n\n	Ice available to view starting: Saturday at 11:00AM\n	Featured cocktail: The Flying Monkey\n\n\n\nTHE DEN AT BEAR TRAP DUNES: 7 Clubhouse Dr.\n\n\n	Ice available to view starting: Friday at 2:00PM\n	Featured cocktail: The Flying Wasp\n	Live Music: Kuhn Dog\n	Friday\, 5:00PM - 8:00PM\n	Menu Specials\n	\n		 Phil Lesh's Chop Salad -  Chopped lettuce\, beets\, chicken\, bacon\, eggs\, tomato\, cheddar cheese\, avocado tossed in balsamic dressing\n		Garcia Chili Dogs -  Jerry Garcia couldn't get enough! Two Chili Dogs and Fries\n		The Elvis Presley -  So simple\, yet a staple. Peanut butter\, banana\, and bacon on toasted white bread.\n	\n	\n\n In Selbyville:\n\n\n\nMIO FRATELLO: 38016 Fenwick Shoals Blvd.\n\n\n	Ice available to view starting: Friday at 5:00PM\n	Featured cocktail: The Shinebox\n	Live Entertainment: Bill Elliiot 5:00PM\n	Menu Specials: \n	\n		The Five Family-Pasta Fagioli Soup\n		You Bustin' My Meatballs\n		La Costa Nostra- Lobster Ravioli\n		La Capo- Calamari Pizziola\n		Yo Cuz- Broccoli Rabe & Sausage\n	\n	\n\nSIGNATURES AT BAYSIDE: 12021 North Haven Dr.\n\n\n	Ice available to view starting: Friday at 3:00PM \n	Featured cocktail: The Signature Gatsby\n\n\n\nAdditional Sculptures and Happenings:\n\n\n\nBANKS WINES AND SPIRITS: 38014 Town Center Dr.\, Millville\n\n\n	Ice available to view starting: Saturday at 12:00PM\n	Tastings:\n	\n		Friday\n		\n			 4:00 - 7:00PM: Steel Blu Vodka\n		\n		\n		Saturday\n		\n			12:00PM - 3:00PM: Tasting with Heavy Seas owner\, Hugh Sisson\n			3:00PM - 6:00PM: High West Pirates of Sussex - single barrel bourbon\n		\n		\n	\n	\n\nBAYS BENEFIT: Fenwick Shores\, 1501 Coastal Hwy.\, Fenwick Island (Ticketed Event)\n\nSee more details and purchase tickets online here  \n\n\n\nBEACH LIQUORS: 33012 Coastal Hwy.\, Bethany Beach\n\n\n	Ice available to view starting: 12:00PM\n	Tastings:\n	\n		Steel Blu Vodka Tasting\n		\n			Friday\, 3:00PM - 6:00PM \n		\n		\n		Sagamore Rye Tasting\n		\n			Saturday\, 2:00PM - 5:00PM\n		\n		\n	\n	\n\nCHILI COOKOFF: Millville Volunteer Fire Co.\, 35554 Atlantic Ave.\, Millville (Ticketed Event)\n\nSee more details and purchase tickets online here\n\n\n\nLORD'S MERCANTILE: 35589 Atlantic Ave.\, Millville\n\n\n	Ice available to view starting: 10:00AM Friday\n	Stop by the Grand Opening of Lord's Mercantile on Friday starting at 10AM to shop the newest branch of Lord's Landscaping!
X-ALT-DESC;FMTTYPE=text/html:<span style="font-size:14px\;"><span style="font-family:arial\;"><span style="color:#000000\;">Don&#39\;t miss the action happening throughout the entire festival weekend at a number of additional sites throughout the Quiet Resorts. The restaurants participating in the Tasting Tour will be open all weekend long and will each have their own featured sculpture on site.<br />\n<br />\nSee below for a full list of participating businesses\, entertainment lineups\, and featured menus that go along with the Hollywood theme!</span><br />\n<br />\n<span style="color:#0000FF\;">Participating Restaurants (by town):</span><br />\n<br />\n<span style="color:#0000FF\;">In Bethany Beach:</span><br />\n<br />\n<span style="color:#000000\;">BETHANY BLUES: 6 N. Pennsylvania Ave.</span></span></span>\n<ul>\n	<li><span style="font-size:14px\;"><span style="font-family:arial\;"><span style="color:#000000\;"><span style="color: rgb(0\, 0\, 255)\;">Ice available to view starting: Saturday at 5:00PM</span></span></span></span></li>\n	<li><span style="font-size:14px\;"><span style="font-family:arial\;"><span style="color:#000000\;">Featured cocktail:&nbsp\;<em>Hawaii 5-0&#8203\;</em></span></span></span></li>\n</ul>\n<br />\n<span style="font-size:14px\;"><span style="font-family:arial\;"><span style="color:#000000\;">COTTAGE CAFE: 33034 Coastal Hwy.</span></span></span>\n\n<ul background-color:="" font-size:="" style="padding: 0px 40px\; color: rgb(51\, 51\, 51)\; font-family: sans-serif\, Arial\, Verdana\, " trebuchet="">\n	<li><span style="font-size:14px\;"><span style="font-family:arial\;"><span style="color: rgb(0\, 0\, 255)\;">Ice available to view starting: Saturday at 11:00AM</span></span></span></li>\n	<li><span style="font-size:14px\;"><span style="font-family:arial\;"><span style="color:#000000\;">Featured cocktail:&nbsp\;<em>Box of Chocolates</em></span></span></span></li>\n	<li><span style="font-size:14px\;"><span style="font-family:arial\;"><span style="color:#000000\;">Bubba Gump Shrimp Menu Specials</span></span></span>\n	<ul>\n		<li><span style="font-size:14px\;"><span style="font-family:arial\;"><span style="color:#000000\;">&#8203\;Appetizer:&nbsp\;<span style="font-size:14px\;"><span style="font-family:arial\;"><span style="color:#000000\;">Coconut Shrimp- house breaded coconut shrimp fried golden brown and served with a sweet thai chili sauce $15</span></span></span></span></span></span></li>\n	</ul>\n	</li>\n	<li><span style="font-size:14px\;"><span style="font-family:arial\;"><span style="color:#000000\;">Lunch:&nbsp\;<span style="font-size:14px\;"><span style="font-family:arial\;"><span style="color:#000000\;">Shrimp Po Boy- shrimp\, andouille\, tomato\, swiss\, and chipotle mayo on a toasted sub roll with hand cut fries and coleslaw $18</span></span></span></span></span></span></li>\n	<li><span style="font-size:14px\;"><span style="font-family:arial\;"><span style="color:#000000\;">Dinner:&nbsp\;<span style="font-size:14px\;"><span style="font-family:arial\;"><span style="color:#000000\;">Shrimp and Grits- special recipe parmesan grits topped with a blend of green and red peppers\, yellow onion\, andouille sausage\, and grilled shrimp. Served with a side salad $18</span></span></span></span></span></span></li>\n	<li><span style="font-size:14px\;"><span style="font-family:arial\;"><span style="color:#000000\;">Soup of the Day:&nbsp\;<span style="font-size:14px\;"><span style="font-family:arial\;"><span style="color:#000000\;">Homemade Shrimp and Corn Chowder</span></span></span></span></span></span></li>\n	<li><span style="font-size:14px\;"><span style="font-family:arial\;"><span style="color:#000000\;">Themed Desserts will be available</span></span></span></li>\n</ul>\n<font color="#000000" face="arial"><span style="font-size: 14px\;">MANGO&#39\;S: 97 Garfield Pkwy.</span></font>\n\n<ul>\n	<li><span style="color:#0000FF\;"><font face="arial"><span style="font-size: 14px\;">Ice available to view starting: Saturday at 5:00PM</span></font></span></li>\n	<li><font color="#000000" face="arial"><span style="font-size: 14px\;">Featured cocktail: <em>Whiskey Business</em></span></font></li>\n	<li><font color="#000000" face="arial"><span style="font-size: 14px\;">Live Music: 19th Street Band</span></font>\n	<ul>\n		<li><font color="#000000" face="arial"><span style="font-size: 14px\;">&#8203\;Saturday\, 9:30PM-11:00PM</span></font></li>\n	</ul>\n	</li>\n</ul>\n<font color="#000000" face="arial"><span style="font-size: 14px\;">OFF THE HOOK: 769 Garfield Pkwy.</span></font>\n\n<ul>\n	<li><span style="color:#0000FF\;">Ice available to view starting: Saturday at 3:00PM</span></li>\n	<li>Featured cocktail: <em>The Wonka</em></li>\n</ul>\n<br />\n<span style="font-size:14px\;"><span style="font-family:arial\;"><span style="color:#0000FF\;">In Millville:</span><br font-size:="" style="color: rgb(51\, 51\, 51)\; font-family: sans-serif\, Arial\, Verdana\, " trebuchet="" />\n<br />\n<span style="color:#000000\;"><span background-color:="" font-size:="" trebuchet="">HOOKED UP: 38069 Town Center Dr.&nbsp\;</span></span></span></span>\n\n<ul>\n	<li><span style="font-size:14px\;"><span style="font-family:arial\;"><span style="color: rgb(0\, 0\, 255)\;">Ice available to view starting: Saturday at 3:00PM</span></span></span></li>\n	<li><span style="font-size:14px\;"><span style="font-family:arial\;"><span style="color:#000000\;"><span background-color:="" font-size:="" trebuchet="">Featured cocktail:&nbsp\;<em>Eye of Sauron</em></span></span></span></span></li>\n</ul>\n<span style="font-size:14px\;"><span style="font-family:arial\;"> <span style="color:#000000\;">THE SALTED RIM: 35553 Atlantic Ave.</span></span></span>\n\n<ul style="padding: 0px 40px\;">\n	<li><span style="font-size:14px\;"><span style="font-family:arial\;"><span style="color: rgb(0\, 0\, 255)\;">Ice available to view starting: Saturday at 11:30AM</span></span></span></li>\n	<li><span style="font-size:14px\;"><span style="font-family:arial\;"><span style="color:#000000\;">Featured cocktail:&nbsp\;<em>The Afterburner Margarita</em></span></span></span></li>\n	<li><span style="font-size:14px\;"><span style="font-family:arial\;"><span style="color:#000000\;">Menu Specials</span></span></span>\n	<ul>\n		<li><span style="font-size:14px\;"><span style="font-family:arial\;"><span style="color:#000000\;">Mach 10 - Chicken Enchilada Soup&nbsp\;- $8</span></span></span>\n		<ul style="padding: 0px 40px\;">\n			<li><span style="font-size:14px\;"><span style="font-family:arial\;"><span style="color:#000000\;">Loaded with shredded chicken\, corn\, beans and vegetables topped with cheese\, scallions\, cilantro and crispy tortilla strips</span></span></span></li>\n		</ul>\n		</li>\n		<li><span style="font-size:14px\;"><span style="font-family:arial\;"><span style="color:#000000\;">Danger Zone - Prime Rib Grilled Cheese&nbsp\;- $14</span></span></span>\n		<ul style="padding: 0px 40px\;">\n			<li><span style="font-size:14px\;"><span style="font-family:arial\;"><span style="color:#000000\;">Thin sliced slow roasted prime rib\, provolone\, thyme horseradish sauce and frizzled onions between 2 slices of toasted buttered thick sour dough bread.</span></span></span></li>\n		</ul>\n		</li>\n		<li><span style="font-size:14px\;"><span style="font-family:arial\;"><span style="color:#000000\;">Wing Man - &nbsp\;Tuna Poke Bowl&nbsp\;- $15</span></span></span>\n		<ul style="padding: 0px 40px\;">\n			<li><span style="font-size:14px\;"><span style="font-family:arial\;"><span style="color:#000000\;">Ahi tuna in a sesame-soy marinade\, steamed rice\, seaweed salad\, edamame\, crisp carrots and cucumber\, fresh avocado &amp\; pickled ginger</span></span></span></li>\n		</ul>\n		</li>\n		<li><span style="font-size:14px\;"><span style="font-family:arial\;"><span style="color:#000000\;">The Goose&nbsp\;-&nbsp\;Personal Naan Flatbread&nbsp\;- $14</span></span></span>\n		<ul style="padding: 0px 40px\;">\n			<li><span style="font-size:14px\;"><span style="font-family:arial\;"><span style="color:#000000\;">Refried beans\, melted Mexican cheese blend\, seasoned ground beef or chicken\, lettuce\, pico de gallo\, corn salsa\, fresh cilantro\, Mexican crema.</span></span></span></li>\n		</ul>\n		</li>\n		<li><span style="font-size:14px\;"><span style="font-family:arial\;"><span style="color:#000000\;">The Maverick&nbsp\;-&nbsp\;Lobster Rolls&nbsp\;- $19</span></span></span>\n		<ul style="padding: 0px 40px\;">\n			<li><span style="font-size:14px\;"><span style="font-family:arial\;"><span style="color:#000000\;">Tender lobster\, all tail meat\, in a light lemon-mayo with lettuce\, served on a toasted split top brioche lobster bun.</span></span></span></li>\n		</ul>\n		</li>\n		<li><span style="font-size:14px\;"><span style="font-family:arial\;"><span style="color:#000000\;">BOB&nbsp\;-&nbsp\;Fried Oreo Cookies&nbsp\;- $8</span></span></span>\n		<ul style="padding: 0px 40px\; list-style-type: circle\;">\n			<li><span style="font-size:14px\;"><span style="font-family:arial\;"><span style="color:#000000\;">Oreo cookies dipped in a sweet batter and deep fried\, topped with powdered sugar\, whipped cream and chocolate drizzle (5)</span></span></span></li>\n		</ul>\n		</li>\n	</ul>\n	</li>\n</ul>\n\n<ul background-color:="" font-size:="" style="padding: 0px 40px\; color: rgb(51\, 51\, 51)\; font-family: sans-serif\, Arial\, Verdana\, " trebuchet="">\n	<li font-size:="" line-height:="" trebuchet=""><span style="font-size:14px\;"><span style="font-family:arial\;"><span style="color:#000000\;">Live Entertainment</span></span></span>\n\n	<ul style="padding: 0px 40px\;">\n		<li font-size:="" line-height:="" trebuchet=""><span style="font-size:14px\;"><span style="font-family:arial\;"><span style="color:#000000\;">Friday\, January 27</span></span></span>\n\n		<ul style="padding: 0px 40px\;">\n			<li font-size:="" line-height:="" trebuchet=""><span style="font-size:14px\;"><span style="font-family:arial\;"><span style="color:#000000\;">7:00 - 10:00PM:&nbsp\;&nbsp\;Low Country&nbsp\;</span></span></span></li>\n		</ul>\n		</li>\n		<li font-size:="" line-height:="" trebuchet=""><span style="font-size:14px\;"><span style="font-family:arial\;"><span style="color:#000000\;">Saturday\, January 28</span></span></span>\n		<ul style="padding: 0px 40px\;">\n			<li font-size:="" line-height:="" trebuchet=""><span style="font-size:14px\;"><span style="font-family:arial\;"><span style="color:#000000\;">2:00 - 6:00PM: Lowercase Blues&nbsp\;</span></span></span></li>\n			<li font-size:="" line-height:="" trebuchet=""><span style="font-size:14px\;"><span style="font-family:arial\;"><span style="color:#000000\;">7:00 - 10:00PM: Lauren Glick Trio</span></span></span></li>\n		</ul>\n		</li>\n	</ul>\n	</li>\n</ul>\n<span style="font-size:14px\;"><span style="font-family:arial\;"> <span style="color:#000000\;">&#8203\;</span><span style="color:#0000FF\;">In Ocean View:</span><br />\n<br />\n<span style="color:#000000\;">GOOD EARTH MARKET: 31806 Good Earth Ln.</span></span></span>\n\n<ul>\n	<li><span style="font-size:14px\;"><span style="font-family:arial\;"><span style="color: rgb(0\, 0\, 255)\;">Ice available to view starting: Saturday at 11:00AM</span></span></span></li>\n	<li><span style="font-size:14px\;"><span style="font-family:arial\;"><span style="color:#000000\;">Featured cocktail:&nbsp\;<em>The Flying Monkey</em></span></span></span></li>\n</ul>\n<br />\n<span style="font-size:14px\;"><span style="font-family:arial\;"><span style="color:#000000\;">THE DEN AT BEAR TRAP DUNES: 7 Clubhouse Dr.</span></span></span>\n\n<ul>\n	<li><span style="font-size:14px\;"><span style="font-family:arial\;"><span style="color: rgb(0\, 0\, 255)\;">Ice available to view starting: Friday at 2:00PM</span></span></span></li>\n	<li><span style="font-size:14px\;"><span style="font-family:arial\;"><span style="color:#000000\;">Featured cocktail: <i>The Flying Wasp</i></span></span></span></li>\n	<li><span style="font-size:14px\;"><span style="font-family:arial\;"><span style="color:#000000\;">Live&nbsp\;Music: Kuhn Dog</span></span></span></li>\n	<li><span style="font-size:14px\;"><span style="font-family:arial\;"><span style="color:#000000\;">Friday\, 5:00PM - 8:00PM</span></span></span></li>\n	<li><span style="font-size:14px\;"><span style="font-family:arial\;"><span style="color:#000000\;">Menu Specials</span></span></span>\n	<ul>\n		<li><span style="font-size:14px\;"><span style="font-family:arial\;"><span style="color:#000000\;">&#8203\;Phil Lesh&#39\;s Chop Salad&nbsp\;-&nbsp\;<span style="font-size:14px\;"><span style="font-family:arial\;"><span style="color:#000000\;">&#8203\;Chopped lettuce\, beets\, chicken\, bacon\, eggs\, tomato\, cheddar cheese\, avocado tossed in balsamic dressing</span></span></span></span></span></span></li>\n		<li><span style="font-size:14px\;"><span style="font-family:arial\;"><span style="color:#000000\;">Garcia Chili Dogs&nbsp\;-&nbsp\;<span style="font-size:14px\;"><span style="font-family:arial\;"><span style="color:#000000\;">&#8203\;Jerry Garcia couldn&#39\;t get enough! Two Chili Dogs and Fries</span></span></span></span></span></span></li>\n		<li><span style="font-size:14px\;"><span style="font-family:arial\;"><span style="color:#000000\;">The Elvis Presley -&nbsp\;<span style="font-size:14px\;"><span style="font-family:arial\;"><span style="color:#000000\;">&#8203\;So simple\, yet a staple. Peanut butter\, banana\, and bacon on toasted white bread.</span></span></span></span></span></span></li>\n	</ul>\n	</li>\n</ul>\n<span style="font-size:14px\;"><span style="font-family:arial\;"> <span style="color:#0000FF\;">In Selbyville:</span><br />\n<br />\n<span style="color:#000000\;">MIO FRATELLO: 38016 Fenwick Shoals Blvd.</span></span></span>\n\n<ul>\n	<li><span style="font-size:14px\;"><span style="font-family:arial\;"><span style="color: rgb(0\, 0\, 255)\;">Ice available to view starting: Friday at 5:00PM</span></span></span></li>\n	<li><span style="font-size:14px\;"><span style="font-family:arial\;"><span style="color:#000000\;">Featured cocktail:&nbsp\;<em>The Shinebox</em></span></span></span></li>\n	<li><span style="font-size:14px\;"><span style="font-family:arial\;"><span style="color:#000000\;"><em>Live Entertainment: Bill Elliiot 5:00PM</em></span></span></span></li>\n	<li>Menu Specials:&nbsp\;\n	<ul>\n		<li>The Five Family-Pasta Fagioli Soup</li>\n		<li>You Bustin&#39\; My Meatballs</li>\n		<li>La Costa Nostra- Lobster Ravioli</li>\n		<li>La Capo- Calamari Pizziola</li>\n		<li>Yo Cuz- Broccoli Rabe &amp\; Sausage</li>\n	</ul>\n	</li>\n</ul>\n<span style="font-size:14px\;"><span style="font-family:arial\;"><span style="color:#000000\;">SIGNATURES AT BAYSIDE: 12021 North Haven Dr.</span></span></span>\n\n<ul>\n	<li><span style="font-size:14px\;"><span style="font-family:arial\;"><span style="color: rgb(0\, 0\, 255)\;">Ice available to view starting: Friday at 3:00PM&nbsp\;</span></span></span></li>\n	<li><span style="font-size:14px\;"><span style="font-family:arial\;"><span style="color:#000000\;">Featured cocktail:&nbsp\;<em>The Signature Gatsby</em></span></span></span></li>\n</ul>\n<br />\n<span style="font-size:14px\;"><span style="font-family:arial\;"><span style="color:#0000FF\;">Additional Sculptures and Happenings:</span><br />\n<br />\n<span style="color:#000000\;">BANKS WINES AND SPIRITS: 38014 Town Center Dr.\, Millville</span></span></span>\n\n<ul>\n	<li><span style="font-size:14px\;"><span style="font-family:arial\;"><span style="color: rgb(0\, 0\, 255)\;">Ice available to view starting: Saturday at 12:00PM</span></span></span></li>\n	<li><span style="font-size:14px\;"><span style="font-family:arial\;"><span style="color:#000000\;">Tastings:</span></span></span>\n	<ul>\n		<li><span style="font-size:14px\;"><span style="font-family:arial\;"><span style="color:#000000\;">Friday</span></span></span>\n		<ul>\n			<li><span style="font-size:14px\;"><span style="font-family:arial\;"><span style="color:#000000\;">&nbsp\;<span style="font-size:14px\;"><span style="font-family:arial\;"><span style="color:#000000\;">4:00 - 7:00PM: Steel Blu Vodka</span></span></span></span></span></span></li>\n		</ul>\n		</li>\n		<li><span style="font-size:14px\;"><span style="font-family:arial\;"><span style="color:#000000\;">Saturday</span></span></span>\n		<ul>\n			<li><span style="font-size: 14px\;"><span style="font-family: arial\;"><span style="color: rgb(0\, 0\, 0)\;">12:00PM - 3:00PM: Tasting with Heavy Seas owner\, Hugh Sisson</span></span></span></li>\n			<li><span style="font-size:14px\;"><span style="font-family:arial\;"><span style="color:#000000\;"><span style="font-size:14px\;"><span style="font-family:arial\;"><span style="color:#000000\;">3:00PM&nbsp\;- 6:00PM:&nbsp\;High West Pirates of Sussex - single barrel bourbon</span></span></span></span></span></span></li>\n		</ul>\n		</li>\n	</ul>\n	</li>\n</ul>\n<span style="font-size:14px\;"><span style="font-family:arial\;"><span style="color:#000000\;">BAYS BENEFIT: Fenwick Shores\, 1501 Coastal Hwy.\, Fenwick Island </span><span style="color:#FF0000\;">(Ticketed Event)</span></span></span><br />\n<span style="font-size:14px\;"><span style="font-family:arial\;"><a href="https://business.bethany-fenwick.org/events/details/fire-ice-lights-camera-action-bays-benefit-24914"><span style="color:#0000FF\;">See more details and purchase tickets online here</span><u>&#8203\;</u><span style="color:#000000\;">&#8203\;</span></a><br />\n<br />\n<span style="color:#000000\;">BEACH LIQUORS: 33012 Coastal Hwy.\, Bethany Beach</span></span></span>\n\n<ul>\n	<li><span style="font-size:14px\;"><span style="font-family:arial\;"><span style="color: rgb(0\, 0\, 255)\;">Ice available to view starting: 12:00PM</span></span></span></li>\n	<li><span style="font-size:14px\;"><span style="font-family:arial\;"><span style="color:#000000\;">Tastings:</span></span></span>\n	<ul>\n		<li><span style="font-size:14px\;"><span style="font-family:arial\;"><span style="color:#000000\;">Steel Blu Vodka Tasting</span></span></span>\n		<ul>\n			<li><span style="font-size:14px\;"><span style="font-family:arial\;"><span style="color:#000000\;">Friday\, 3:00PM - 6:00PM&nbsp\;</span></span></span></li>\n		</ul>\n		</li>\n		<li><span style="font-size:14px\;"><span style="font-family:arial\;"><span style="color:#000000\;">Sagamore Rye Tasting</span></span></span>\n		<ul>\n			<li><span style="font-size:14px\;"><span style="font-family:arial\;"><span style="color:#000000\;">Saturday\, 2:00PM - 5:00PM</span></span></span></li>\n		</ul>\n		</li>\n	</ul>\n	</li>\n</ul>\n<span style="font-size:14px\;"><span style="font-family:arial\;">CHILI COOKOFF: Millville Volunteer Fire Co.\, 35554 Atlantic Ave.\, Millville <span style="color:#FF0000\;">(Ticketed Event)</span><br />\n<a href="https://business.bethany-fenwick.org/events/details/fire-ice-lights-camera-action-chili-cookoff-24478"><span style="color:#0000FF\;">See more details and purchase tickets online here</span></a></span></span><br />\n<br />\n<span style="font-size:14px\;"><span style="font-family:arial\;"><span style="color:#000000\;">LORD&#39\;S MERCANTILE: 35589 Atlantic Ave.\, Millville</span></span></span>\n\n<ul>\n	<li><span style="font-size:14px\;"><span style="font-family:arial\;"><span style="color: rgb(0\, 0\, 255)\;">Ice available to view starting: 10:00AM Friday</span></span></span></li>\n	<li><span style="font-size:14px\;"><span style="font-family:arial\;"><span style="color:#000000\;">Stop by the Grand Opening of Lord&#39\;s Mercantile on&nbsp\;Friday starting at 10AM to shop the newest branch of Lord&#39\;s Landscaping!&nbsp\;</span></span></span></li>\n</ul>\n<br />\n<br />\n<br />\n<br />\n<br />\n<br />\n&nbsp\;
LOCATION:Participating businesses in Bethany Beach\, Dagsboro\, Millville\, Ocean View\, and Selbyville
UID:e.2126.25083
SEQUENCE:3
DTSTAMP:20260421T093326Z
URL:http://business.thequietresorts.com/events/details/lights-camera-action-weekend-walk-of-fame-sites-25083
END:VEVENT

END:VCALENDAR
