BEGIN:VCALENDAR
VERSION:2.0
PRODID:-//ChamberMaster//Event Calendar 2.0//EN
METHOD:PUBLISH
X-PUBLISHED-TTL:P3D
REFRESH-INTERVAL:P3D
CALSCALE:GREGORIAN
BEGIN:VEVENT
DTSTART:20220730T000000Z
DTEND:20220730T020000Z
X-MICROSOFT-CDO-ALLDAYEVENT:FALSE
SUMMARY:Lewes Historical Society -- Partner Tours: Haunted Histories
DESCRIPTION:Haunted Histories echo through time and Lewes is full of these eerie accounts. On this two-hour tour\, Lewes Historical Society and First State Paranormal Investigations invite you to hear the true tales of long-ago residents of both the historic Cannonball and Burton Ingram Houses. This educational experience with a ghostly twist is not to be missed!\n\nFlashlights are recommended.  Personal Paranormal Equipment is welcome but not necessary\, it will be provided to share.\n\nTours begin at 8:00 P.M. on the LHS Historic Main Campus\, 110 Shipcarpenter Street\n\nMust be 13 or older to attend.
X-ALT-DESC;FMTTYPE=text/html:<p>Haunted Histories echo through time and Lewes is full of these eerie accounts. On this two-hour tour\, Lewes Historical Society and First State Paranormal Investigations invite you to hear the true tales of long-ago residents of both the historic Cannonball and Burton Ingram Houses. This educational experience with a ghostly twist is not to be missed!</p>\n\n<p>Flashlights are recommended.&nbsp\; Personal Paranormal Equipment is welcome but not necessary\, it will be provided to share.</p>\n\n<p>Tours begin at 8:00 P.M. on the LHS Historic Main Campus\, 110 Shipcarpenter Street</p>\n\n<p>Must be 13 or older to attend.</p>\n
LOCATION:Lewes Historical Society Historic Main Campus\, 110 Shipcarpenter Street.
UID:e.2126.23848
SEQUENCE:3
DTSTAMP:20260421T223035Z
URL:http://business.thequietresorts.com/events/details/lewes-historical-society-partner-tours-haunted-histories-23848
END:VEVENT

END:VCALENDAR
