BEGIN:VCALENDAR
VERSION:2.0
PRODID:-//ChamberMaster//Event Calendar 2.0//EN
METHOD:PUBLISH
X-PUBLISHED-TTL:P3D
REFRESH-INTERVAL:P3D
CALSCALE:GREGORIAN
BEGIN:VEVENT
DTSTART:20221001T130000Z
DTEND:20221002T200000Z
X-MICROSOFT-CDO-ALLDAYEVENT:FALSE
SUMMARY:Lewes Historical Society -- Fall Craft Fair
DESCRIPTION:The Lewes Historical Society Fall Craft Fair is well known for the exceptional quality of the craftspeople selected to attend. The fair will include new and returning artists from across Delmarva and the Eastern Shore. Plan to spend the day and enjoy the coastal atmosphere of our main campus whose historic buildings will be open to the public. The complex is surrounded by shade trees and gardens\, providing a beautiful backdrop for your visit. Enjoy festive live music and delicious food throughout the day. Your admission to the festival provides access to all LHS properties and museums so while you're here plan to visit the Historical Society's other locations including the Ryves Holt House gift shop & information center\, the Maritime Museum at the Cannonball House\, The Lewes U.S. Lifesaving Station\, the Lewes History Museum\, and the LHS Antique Shop in the historic "Z Club" building. Ask for a location map! Proceeds from this event will benefit educational and preservation programs at The Lewes Historical Society.
X-ALT-DESC;FMTTYPE=text/html:The Lewes Historical Society Fall Craft Fair is well known for the exceptional quality of the craftspeople selected to attend. The fair will include new and returning artists from across Delmarva and the Eastern Shore. Plan to spend the day and enjoy the coastal atmosphere of our main campus whose historic buildings will be open to the public. The complex is surrounded by shade trees and gardens\, providing a beautiful backdrop for your visit. Enjoy festive live music and delicious food throughout the day. Your admission to the festival provides access to all LHS properties and museums so while you&#39\;re here plan to visit the Historical Society&#39\;s other locations including the Ryves Holt House gift shop &amp\; information center\, the Maritime Museum at the Cannonball House\, The Lewes U.S. Lifesaving Station\, the Lewes History Museum\, and the LHS Antique Shop in the historic &quot\;Z Club&quot\; building. Ask for a location map! Proceeds from this event will benefit educational and preservation programs at The Lewes Historical Society.
LOCATION:The Historic Campus\, located at Second & Shipcarpenter Streets in downtown Lewes.
UID:e.2126.23847
SEQUENCE:3
DTSTAMP:20260421T173216Z
URL:http://business.thequietresorts.com/events/details/lewes-historical-society-fall-craft-fair-23847
END:VEVENT

END:VCALENDAR
