BEGIN:VCALENDAR
VERSION:2.0
PRODID:-//ChamberMaster//Event Calendar 2.0//EN
METHOD:PUBLISH
X-PUBLISHED-TTL:P3D
REFRESH-INTERVAL:P3D
CALSCALE:GREGORIAN
BEGIN:VEVENT
DTSTART:20231003T150000Z
DTEND:20231003T163000Z
X-MICROSOFT-CDO-ALLDAYEVENT:FALSE
SUMMARY:Leveling Up Your Business: The 7 C’s to Plan\, Prepare and Position for What’s Next with SBDC
DESCRIPTION:Join us for a session on Leveling Up Your Business where you will learn the 7 C's to Plan\, Prepare and Position for What's Next. Hear from local resource partners like the Small Business Administration and Delaware Small Business Development Center about the importance of planning for your business growth and resiliency. Andy Ziegler\, a local small business owner and resiliency expert\, will also share his experiences and best practices to help you propel your business forward.\n\n\n\nRegister HERE.
X-ALT-DESC;FMTTYPE=text/html:<span style="color: rgb(0\, 0\, 0)\; font-family: Arial\, sans-serif\; font-size: 16px\;">Join us for a session on&nbsp\;</span><strong style="color: rgb(0\, 0\, 0)\; font-family: Arial\, sans-serif\; font-size: 16px\;">Leveling Up Your Business</strong><span style="color: rgb(0\, 0\, 0)\; font-family: Arial\, sans-serif\; font-size: 16px\;">&nbsp\;where you will learn the 7 C&rsquo\;s to Plan\, Prepare and Position for What&rsquo\;s Next. Hear from local resource partners like the&nbsp\;</span><em style="color: rgb(0\, 0\, 0)\; font-family: Arial\, sans-serif\; font-size: 16px\;">Small Business Administration</em><span style="color: rgb(0\, 0\, 0)\; font-family: Arial\, sans-serif\; font-size: 16px\;">&nbsp\;and&nbsp\;</span><em style="color: rgb(0\, 0\, 0)\; font-family: Arial\, sans-serif\; font-size: 16px\;">Delaware Small Business Development Center</em><span style="color: rgb(0\, 0\, 0)\; font-family: Arial\, sans-serif\; font-size: 16px\;">&nbsp\;about the importance of planning for your business growth and resiliency.&nbsp\;</span><em style="color: rgb(0\, 0\, 0)\; font-family: Arial\, sans-serif\; font-size: 16px\;">Andy Ziegler</em><span style="color: rgb(0\, 0\, 0)\; font-family: Arial\, sans-serif\; font-size: 16px\;">\, a local small business owner and resiliency expert\, will also share his experiences and best practices to help you propel your business forward.<br />\n<br />\nRegister <a href="https://portal.navigatede.org/reg.aspx?mode=event&amp\;event=1430068">HERE</a>.</span>
LOCATION:Online
UID:e.2126.26908
SEQUENCE:3
DTSTAMP:20260420T200732Z
URL:http://business.thequietresorts.com/events/details/leveling-up-your-business-the-7-c-s-to-plan-prepare-and-position-for-what-s-next-with-sbdc-26908
END:VEVENT

END:VCALENDAR
