BEGIN:VCALENDAR
VERSION:2.0
PRODID:-//ChamberMaster//Event Calendar 2.0//EN
METHOD:PUBLISH
X-PUBLISHED-TTL:P3D
REFRESH-INTERVAL:P3D
CALSCALE:GREGORIAN
BEGIN:VEVENT
DTSTART:20200308T150000Z
DTEND:20200308T190000Z
X-MICROSOFT-CDO-ALLDAYEVENT:FALSE
SUMMARY:Leukemia & Lymphona Society - March Into Self Care
DESCRIPTION:Support the Leukemia & Lymphoma Society \n\n\n\nFocus on YOU from the inside out. Join us for some self care tips to pamper your mind\,body\, and spirit with local vendors and speakers. Lunch included with a cash bar.\n\n\n\nGet your tickets through our Facebook Event Page
X-ALT-DESC;FMTTYPE=text/html:Support the Leukemia &amp\; Lymphoma Society&nbsp\;<br />\n<br />\nFocus on&nbsp\;<strong><em>YOU&nbsp\;</em></strong>from the inside out. Join us for some self care tips to pamper your mind\,body\, and spirit with local vendors and speakers. Lunch included with a cash bar.<br />\n<br />\nGet your tickets through our Facebook Event Page
LOCATION:Marriott Fairfield Inn 19113 Coastal Hwy\, Rehoboth Beach\, DE 19971
UID:e.2126.20266
SEQUENCE:3
DTSTAMP:20260425T225355Z
URL:http://business.thequietresorts.com/events/details/leukemia-lymphona-society-march-into-self-care-20266
END:VEVENT

END:VCALENDAR
