BEGIN:VCALENDAR
VERSION:2.0
PRODID:-//ChamberMaster//Event Calendar 2.0//EN
METHOD:PUBLISH
X-PUBLISHED-TTL:P3D
REFRESH-INTERVAL:P3D
CALSCALE:GREGORIAN
BEGIN:VEVENT
DTSTART:20221110T233000Z
DTEND:20221111T030000Z
X-MICROSOFT-CDO-ALLDAYEVENT:FALSE
SUMMARY:Let's TACO 'BOUT COMEDY!
DESCRIPTION:Let's Taco 'Bout Comedy!\n\n \n\n\n\nHost: Stevie Jay (Triple B Entertainment\, LLC Co-Founder)\n\nFeaturing: Matt Scarpelli\n\nHeadliner: Shawn Banks (NBC's "Last Comic Standing"\, Comedy Central\, and TvOne")\n\nMusic by: DJ Magellan (Triple B Entertainment\, LLC Co-Founder)\n\n \n\n\n\n	\n		\n			Triple B Events
X-ALT-DESC;FMTTYPE=text/html:<div>\n<div>Let&#39\;s Taco &#39\;Bout Comedy!</div>\n\n<div>&nbsp\;</div>\n</div>\n\n<div>\n<div><strong>Host:</strong> Stevie Jay (Triple B Entertainment\, LLC Co-Founder)</div>\n\n<div><strong>Featuring:</strong> Matt Scarpelli</div>\n\n<div><strong>Headliner:</strong> Shawn Banks (NBC&rsquo\;s &ldquo\;Last Comic Standing&rdquo\;\, Comedy Central\, and TvOne&rdquo\;)</div>\n\n<div><strong>Music by:</strong> DJ Magellan (Triple B Entertainment\, LLC Co-Founder)</div>\n\n<div>&nbsp\;</div>\n\n<div>\n<table border="1" cellpadding="1" cellspacing="1" style="height:50px\;width:150px\;">\n	<tbody>\n		<tr>\n			<td style="background-color: rgb(102\, 51\, 153)\; text-align: center\; vertical-align: middle\;"><a href="https://www.triplebevents.com/events"><span style="color:#FFFFFF\;">Triple B Events</span></a></td>\n		</tr>\n	</tbody>\n</table>\n</div>\n</div>\n
LOCATION:Zoca Bethany Beach 98 Garfield Pkwy\, Bethany Beach\, DE 19930
UID:e.2126.24768
SEQUENCE:3
DTSTAMP:20260421T141824Z
URL:http://business.thequietresorts.com/events/details/let-s-taco-bout-comedy-24768
END:VEVENT

END:VCALENDAR
